BEGIN:VCALENDAR
VERSION:2.0
PRODID:-//AIA Winston-Salem - ECPv6.3.1//NONSGML v1.0//EN
CALSCALE:GREGORIAN
METHOD:PUBLISH
X-WR-CALNAME:AIA Winston-Salem
X-ORIGINAL-URL:https://www.aiawinstonsalem.org
X-WR-CALDESC:Events for AIA Winston-Salem
REFRESH-INTERVAL;VALUE=DURATION:PT1H
X-Robots-Tag:noindex
X-PUBLISHED-TTL:PT1H
BEGIN:VTIMEZONE
TZID:America/New_York
BEGIN:DAYLIGHT
TZOFFSETFROM:-0500
TZOFFSETTO:-0400
TZNAME:EDT
DTSTART:20200308T070000
END:DAYLIGHT
BEGIN:STANDARD
TZOFFSETFROM:-0400
TZOFFSETTO:-0500
TZNAME:EST
DTSTART:20201101T060000
END:STANDARD
END:VTIMEZONE
BEGIN:VEVENT
DTSTART;TZID=America/New_York:20200924T120000
DTEND;TZID=America/New_York:20200924T130000
DTSTAMP:20260424T183531
CREATED:20200918T135825Z
LAST-MODIFIED:20200918T135825Z
UID:1042-1600948800-1600952400@www.aiawinstonsalem.org
SUMMARY:AIA WS | September *VIRTUAL* Section Lunch
DESCRIPTION:Scott Best from H.O.P.E. (Help Our People Eat) of Winston-Salem will discuss H.O.P.E.’s mission to use community-wide volunteer support to prepare and bring nutritious meals to thousands of children in Forsyth County who are at risk for hunger. This webinar is in conjunction with AIA Winston-Salem’s ACTIVATE project being planned this fall\, which will engage our design community in a charrette to explore opportunities within H.O.P.E.’s current facilities for a kitchen classroom. More details will be provided during the section meeting. \nRegister for the Zoom meeting here: https://us02web.zoom.us/meeting/register/tZIsc-6spj8uGNPDAcGSDUPvtdNUXbmkg1ZM
URL:https://www.aiawinstonsalem.org/event/aia-ws-september-virtual-section-lunch/
CATEGORIES:AIA Winston-Salem,Speaker Lunch,Webinar
ATTACH;FMTTYPE=image/jpeg:https://www.aiawinstonsalem.org/wp-content/uploads/2020/09/hope-logo.jpg
ORGANIZER;CN="AIA Winston-Salem":MAILTO:president@aiawinstonsalem.org
END:VEVENT
BEGIN:VEVENT
DTSTART;TZID=America/New_York:20200924T140000
DTEND;TZID=America/New_York:20200924T150000
DTSTAMP:20260424T183531
CREATED:20200813T130314Z
LAST-MODIFIED:20200813T130314Z
UID:1025-1600956000-1600959600@www.aiawinstonsalem.org
SUMMARY:Incorporating Sustainability into Projects through the AIA Sustainable Projects Exhibit
DESCRIPTION:Sustainable projects offer exciting opportunities for the construction industry to drive positive change by reducing negative environmental impacts\, improving energy efficiency\, and enhancing the health of building occupants. \nJoin us for a free webinar as we explore various risk considerations on sustainable projects and examine how the AIA Sustainable Projects Exhibit can help to manage these risks\, as well as facilitate the provision of sustainability services and the achievement of sustainability goals on a project. \n  \nRegister here: http://acdpages.aia.org/2020-WBN-E304.html?utm_source=aia-events
URL:https://www.aiawinstonsalem.org/event/incorporating-sustainability-into-projects-through-the-aia-sustainable-projects-exhibit/
CATEGORIES:AIA Contract Documents,AIA National,Webinar,Webinar
ATTACH;FMTTYPE=image/jpeg:https://www.aiawinstonsalem.org/wp-content/uploads/2019/01/Members_AIAContractDocs.jpg
END:VEVENT
BEGIN:VEVENT
DTSTART;TZID=America/New_York:20200929T120000
DTEND;TZID=America/New_York:20200929T130000
DTSTAMP:20260424T183531
CREATED:20200904T133214Z
LAST-MODIFIED:20200904T133214Z
UID:1037-1601380800-1601384400@www.aiawinstonsalem.org
SUMMARY:AIAWS | *Virtual* September Lunch and Learn
DESCRIPTION:Resinous Floor and Wall Systems\npresented by Ron Jackson\n* 1 HSW/LU *\nThis course explores the process of selecting\, specifying and installing high performance resinous floor and wall systems. It familiarizes the attendee with the latest system technologies and applications where these systems provide maximum value. \nLearning Objectives\n\nIdentify project specific key performance criteria focusing on low or no volatile organic content (VOC) systems.\nExplain the impact of uncontrolled slab moisture emissions….mold growth\, premature system failure\, trip hazards\, disruption of operations\, etc. and the latest approaches to address this issue.\nDiscuss key specification and project submittal items including: Contractor and manufacturer qualifications\, critical detailing\, safety program\, quality assurance and mock-up.\nReview installation procedures by system to address slip resistance\, surface appearance and impact on maintenance.\n\nREGISTER HERE:  https://us02web.zoom.us/meeting/register/tZUkdO2spj8qG9fcxnKaiNiCtnMPOZma4ocr
URL:https://www.aiawinstonsalem.org/event/aiaws-virtual-september-lunch-and-learn/
CATEGORIES:AIA Winston-Salem,Lunch & Learn,Webinar
ATTACH;FMTTYPE=image/png:https://www.aiawinstonsalem.org/wp-content/uploads/2020/01/sika-flooring-logo.png
ORGANIZER;CN="AIA Winston-Salem":MAILTO:president@aiawinstonsalem.org
END:VEVENT
END:VCALENDAR