BEGIN:VCALENDAR
VERSION:2.0
PRODID:-//AIA Winston-Salem - ECPv6.3.1//NONSGML v1.0//EN
CALSCALE:GREGORIAN
METHOD:PUBLISH
X-WR-CALNAME:AIA Winston-Salem
X-ORIGINAL-URL:https://www.aiawinstonsalem.org
X-WR-CALDESC:Events for AIA Winston-Salem
REFRESH-INTERVAL;VALUE=DURATION:PT1H
X-Robots-Tag:noindex
X-PUBLISHED-TTL:PT1H
BEGIN:VTIMEZONE
TZID:America/New_York
BEGIN:DAYLIGHT
TZOFFSETFROM:-0500
TZOFFSETTO:-0400
TZNAME:EDT
DTSTART:20200308T070000
END:DAYLIGHT
BEGIN:STANDARD
TZOFFSETFROM:-0400
TZOFFSETTO:-0500
TZNAME:EST
DTSTART:20201101T060000
END:STANDARD
END:VTIMEZONE
BEGIN:VEVENT
DTSTART;TZID=America/New_York:20201222T120000
DTEND;TZID=America/New_York:20201222T130000
DTSTAMP:20260424T153116
CREATED:20201210T184922Z
LAST-MODIFIED:20201221T193118Z
UID:1099-1608638400-1608642000@www.aiawinstonsalem.org
SUMMARY:AIAWS | December Section Lunch
DESCRIPTION:Being a Design Fugitive: Lessons in Entrepreneurial Architecture\n*1 LU*\n\nDon’t miss our LAST Section Meeting of the year! We’ll hear from Paul Mattek\, Partner of Design Fugitives\, as he presents his experiences as an entrepreneurial architect\, using his architectural training in unique and ever-changing ways. Paul will use his stories and pictures from his past projects to share lessons he’s learned in design\, business\, digital tools\, and relationships.\n\n\n\n\nRegister to join at the link below\, and receive a Door Dash e-gift card for a delivered lunch from a local restaurant on us! We thank you for sticking with us as we’ve navigated this through this year of virtual events\, and hope that we’ll be able to safely gather again in 2021!\n\n\n\nhttps://us02web.zoom.us/meeting/register/tZMlfumhqD8oHN0E_fC6HBoqnpXjYwQbMCyX
URL:https://www.aiawinstonsalem.org/event/aiaws-december-section-lunch/
CATEGORIES:AIA Winston-Salem,Speaker Lunch,Webinar
ATTACH;FMTTYPE=image/png:https://www.aiawinstonsalem.org/wp-content/uploads/2019/06/Speaker-Lunch-Graphic.png
ORGANIZER;CN="AIA Winston-Salem":MAILTO:president@aiawinstonsalem.org
END:VEVENT
END:VCALENDAR