BEGIN:VCALENDAR
VERSION:2.0
PRODID:-//AIA Winston-Salem - ECPv6.3.1//NONSGML v1.0//EN
CALSCALE:GREGORIAN
METHOD:PUBLISH
X-WR-CALNAME:AIA Winston-Salem
X-ORIGINAL-URL:https://www.aiawinstonsalem.org
X-WR-CALDESC:Events for AIA Winston-Salem
REFRESH-INTERVAL;VALUE=DURATION:PT1H
X-Robots-Tag:noindex
X-PUBLISHED-TTL:PT1H
BEGIN:VTIMEZONE
TZID:America/New_York
BEGIN:DAYLIGHT
TZOFFSETFROM:-0500
TZOFFSETTO:-0400
TZNAME:EDT
DTSTART:20210314T070000
END:DAYLIGHT
BEGIN:STANDARD
TZOFFSETFROM:-0400
TZOFFSETTO:-0500
TZNAME:EST
DTSTART:20211107T060000
END:STANDARD
END:VTIMEZONE
BEGIN:VEVENT
DTSTART;TZID=America/New_York:20210119T120000
DTEND;TZID=America/New_York:20210119T130000
DTSTAMP:20260424T140751
CREATED:20210111T143937Z
LAST-MODIFIED:20210111T143937Z
UID:1146-1611057600-1611061200@www.aiawinstonsalem.org
SUMMARY:AIAWS | January Section Lunch
DESCRIPTION:Attracting and Retaining Emerging Professionals\n*1 LU*\nRescheduled from December\nRachel R Gresham\, AIA\, WELL AP\, CDT\, a Registered Architect in Nashville\, TN has a passion about workplace cultures. She will be joining us to discuss how firms can use work culture to attract and retain Emerging Professionals. Rachel was the Keynote Speaker at the inaugural Young Architect Conference and has appeared on the Young Architect Podcast. She has played a crucial role in assisted her own firm in creating an advocacy program and curriculum for Emerging Leaders. She serves on the AIA Middle Tennessee Chapter Board of Directors where she is the Chair of Equity\, Diversity\, and Inclusion (formerly Women in Architecture). \nCheck your emails for the event invite or email us at president@aiawinstonsalem.org to register!
URL:https://www.aiawinstonsalem.org/event/aiaws-january-section-lunch-2/
CATEGORIES:AIA Winston-Salem,Speaker Lunch,Webinar
ATTACH;FMTTYPE=image/png:https://www.aiawinstonsalem.org/wp-content/uploads/2019/06/Speaker-Lunch-Graphic.png
ORGANIZER;CN="AIA Winston-Salem":MAILTO:president@aiawinstonsalem.org
END:VEVENT
END:VCALENDAR