BEGIN:VCALENDAR
VERSION:2.0
PRODID:-//AIA Winston-Salem - ECPv6.3.1//NONSGML v1.0//EN
CALSCALE:GREGORIAN
METHOD:PUBLISH
X-WR-CALNAME:AIA Winston-Salem
X-ORIGINAL-URL:https://www.aiawinstonsalem.org
X-WR-CALDESC:Events for AIA Winston-Salem
REFRESH-INTERVAL;VALUE=DURATION:PT1H
X-Robots-Tag:noindex
X-PUBLISHED-TTL:PT1H
BEGIN:VTIMEZONE
TZID:America/New_York
BEGIN:DAYLIGHT
TZOFFSETFROM:-0500
TZOFFSETTO:-0400
TZNAME:EDT
DTSTART:20210314T070000
END:DAYLIGHT
BEGIN:STANDARD
TZOFFSETFROM:-0400
TZOFFSETTO:-0500
TZNAME:EST
DTSTART:20211107T060000
END:STANDARD
END:VTIMEZONE
BEGIN:VEVENT
DTSTART;TZID=America/New_York:20210121T120000
DTEND;TZID=America/New_York:20210121T133000
DTSTAMP:20260424T140800
CREATED:20210104T211656Z
LAST-MODIFIED:20210104T211656Z
UID:1121-1611230400-1611235800@www.aiawinstonsalem.org
SUMMARY:Aspire Online Learning: Characteristics of Design
DESCRIPTION:How Form\, Fit\, and Function are impacted by Acoustics\, Technology\, and Lighting\n*1.5 LU Hours*\nPresented by Thorburn Associates through Aspire Online Learning \nIn this session\, participants will explore the design concept of form-fit-function (FFF) as it relates to the integration of acoustics\, technology\, and lighting into the overall architectural design without compromising project goals. \nRegister <here>
URL:https://www.aiawinstonsalem.org/event/aspire-online-learning-characteristics-of-design/
CATEGORIES:Aspire Online Learning,Webinar
ATTACH;FMTTYPE=image/jpeg:https://www.aiawinstonsalem.org/wp-content/uploads/2020/05/Thorburn-200.jpg
END:VEVENT
END:VCALENDAR