BEGIN:VCALENDAR
VERSION:2.0
PRODID:-//AIA Winston-Salem - ECPv6.3.1//NONSGML v1.0//EN
CALSCALE:GREGORIAN
METHOD:PUBLISH
X-WR-CALNAME:AIA Winston-Salem
X-ORIGINAL-URL:https://www.aiawinstonsalem.org
X-WR-CALDESC:Events for AIA Winston-Salem
REFRESH-INTERVAL;VALUE=DURATION:PT1H
X-Robots-Tag:noindex
X-PUBLISHED-TTL:PT1H
BEGIN:VTIMEZONE
TZID:America/New_York
BEGIN:DAYLIGHT
TZOFFSETFROM:-0500
TZOFFSETTO:-0400
TZNAME:EDT
DTSTART:20210314T070000
END:DAYLIGHT
BEGIN:STANDARD
TZOFFSETFROM:-0400
TZOFFSETTO:-0500
TZNAME:EST
DTSTART:20211107T060000
END:STANDARD
END:VTIMEZONE
BEGIN:VEVENT
DTSTART;TZID=America/New_York:20210209T120000
DTEND;TZID=America/New_York:20210209T133000
DTSTAMP:20260424T124337
CREATED:20210202T142030Z
LAST-MODIFIED:20210202T142030Z
UID:1156-1612872000-1612877400@www.aiawinstonsalem.org
SUMMARY:February O.W.L.S.
DESCRIPTION:Cracking the Code on Fire and Smoke Rated Assemblies\nIn this course\, Maxson Associates will give an overview of the multiple types of fire and smoke separation defined in the International Building Code and the code requirements for their respective opening protection assemblies\, as well as the testing of all discussed assemblies. They will also discuss the differing types of solutions found in the marketplace today and how they are compliant/non-compliant with the building code requirements of each wall type referenced in the IBC. The course is intended to give attendees the basic steps in evaluating product test performance against those building code requirements.
URL:https://www.aiawinstonsalem.org/event/february-o-w-l-s/
CATEGORIES:AIA North Carolina,O.W.L.S.,Webinar
ATTACH;FMTTYPE=image/jpeg:https://www.aiawinstonsalem.org/wp-content/uploads/2020/01/maxson-and-associates-logo.jpg
ORGANIZER;CN="AIA Winston-Salem":MAILTO:president@aiawinstonsalem.org
END:VEVENT
END:VCALENDAR