BEGIN:VCALENDAR
VERSION:2.0
PRODID:-//AIA Winston-Salem - ECPv6.3.1//NONSGML v1.0//EN
CALSCALE:GREGORIAN
METHOD:PUBLISH
X-WR-CALNAME:AIA Winston-Salem
X-ORIGINAL-URL:https://www.aiawinstonsalem.org
X-WR-CALDESC:Events for AIA Winston-Salem
REFRESH-INTERVAL;VALUE=DURATION:PT1H
X-Robots-Tag:noindex
X-PUBLISHED-TTL:PT1H
BEGIN:VTIMEZONE
TZID:America/New_York
BEGIN:DAYLIGHT
TZOFFSETFROM:-0500
TZOFFSETTO:-0400
TZNAME:EDT
DTSTART:20210314T070000
END:DAYLIGHT
BEGIN:STANDARD
TZOFFSETFROM:-0400
TZOFFSETTO:-0500
TZNAME:EST
DTSTART:20211107T060000
END:STANDARD
END:VTIMEZONE
BEGIN:VEVENT
DTSTART;TZID=America/New_York:20210223T120000
DTEND;TZID=America/New_York:20210223T130000
DTSTAMP:20260424T124338
CREATED:20210202T141318Z
LAST-MODIFIED:20210215T140736Z
UID:1154-1614081600-1614085200@www.aiawinstonsalem.org
SUMMARY:AIAWS | February Lunch & Learn
DESCRIPTION:Protected Membrane Roofing\n*1 HSW*\nProvides a comparison of the functional and physical features of PMR systems to conventional low-slope roofing applications and includes a discussion about the ASCE 7 standard and its impact on wind uplift design and how weather events such as hail impact roof design.
URL:https://www.aiawinstonsalem.org/event/aiaws-february-lunch-learn/
CATEGORIES:AIA Winston-Salem,Lunch & Learn,Webinar
ATTACH;FMTTYPE=image/png:https://www.aiawinstonsalem.org/wp-content/uploads/2021/02/general-shale.png
ORGANIZER;CN="AIA Winston-Salem":MAILTO:president@aiawinstonsalem.org
END:VEVENT
END:VCALENDAR