BEGIN:VCALENDAR
VERSION:2.0
PRODID:-//AIA Winston-Salem - ECPv6.3.1//NONSGML v1.0//EN
CALSCALE:GREGORIAN
METHOD:PUBLISH
X-WR-CALNAME:AIA Winston-Salem
X-ORIGINAL-URL:https://www.aiawinstonsalem.org
X-WR-CALDESC:Events for AIA Winston-Salem
REFRESH-INTERVAL;VALUE=DURATION:PT1H
X-Robots-Tag:noindex
X-PUBLISHED-TTL:PT1H
BEGIN:VTIMEZONE
TZID:America/New_York
BEGIN:DAYLIGHT
TZOFFSETFROM:-0500
TZOFFSETTO:-0400
TZNAME:EDT
DTSTART:20210314T070000
END:DAYLIGHT
BEGIN:STANDARD
TZOFFSETFROM:-0400
TZOFFSETTO:-0500
TZNAME:EST
DTSTART:20211107T060000
END:STANDARD
END:VTIMEZONE
BEGIN:VEVENT
DTSTART;TZID=America/New_York:20210420T120000
DTEND;TZID=America/New_York:20210420T130000
DTSTAMP:20260424T093709
CREATED:20210408T124506Z
LAST-MODIFIED:20210409T183303Z
UID:1228-1618920000-1618923600@www.aiawinstonsalem.org
SUMMARY:AIAWS | April Section Lunch
DESCRIPTION:Alan Shelton from MIXXER and Lauren Frye from Community Design Studio will join us to talk about their Leadership by Design summer camps. Leadership by Design won our section’s ACTIVATE Award through AIA NC for this year.
URL:https://www.aiawinstonsalem.org/event/aiaws-april-section-lunch/
CATEGORIES:AIA Winston-Salem,Speaker Lunch,Webinar
ATTACH;FMTTYPE=image/png:https://www.aiawinstonsalem.org/wp-content/uploads/2019/06/Speaker-Lunch-Graphic.png
ORGANIZER;CN="AIA Winston-Salem":MAILTO:president@aiawinstonsalem.org
END:VEVENT
END:VCALENDAR