BEGIN:VCALENDAR
VERSION:2.0
PRODID:-//AIA Winston-Salem - ECPv6.3.1//NONSGML v1.0//EN
CALSCALE:GREGORIAN
METHOD:PUBLISH
X-ORIGINAL-URL:https://www.aiawinstonsalem.org
X-WR-CALDESC:Events for AIA Winston-Salem
REFRESH-INTERVAL;VALUE=DURATION:PT1H
X-Robots-Tag:noindex
X-PUBLISHED-TTL:PT1H
BEGIN:VTIMEZONE
TZID:America/New_York
BEGIN:DAYLIGHT
TZOFFSETFROM:-0500
TZOFFSETTO:-0400
TZNAME:EDT
DTSTART:20200308T070000
END:DAYLIGHT
BEGIN:STANDARD
TZOFFSETFROM:-0400
TZOFFSETTO:-0500
TZNAME:EST
DTSTART:20201101T060000
END:STANDARD
END:VTIMEZONE
BEGIN:VEVENT
DTSTART;TZID=America/New_York:20200121T150000
DTEND;TZID=America/New_York:20200121T160000
DTSTAMP:20260423T044246
CREATED:20200113T205938Z
LAST-MODIFIED:20200114T202630Z
UID:826-1579618800-1579622400@www.aiawinstonsalem.org
SUMMARY:AIAU | The ROI of Investing in Diversity
DESCRIPTION:**Earn 1 LU/HSW/RIBA**\nDiverse Firms do Better\nLast year\, HKS hired their first director of equity\, diversity\, and inclusion. Find out how this role has changed their firm culture and created an environment that inspires limitless thinking and lasting effort. Dan Noble\, FAIA\, president & CEO\, joins Yiselle Santos\, Assoc. AIA\, director of HKS’s equity\, diversity\, and inclusion program to share how they implemented AIA’s Guides to Equitable Practice to improve firm culture\, raise employee satisfaction\, and bring their successes and creative energy to the clients and communities they design for.
URL:https://www.aiawinstonsalem.org/event/aiau-the-roi-of-investing-in-diversity/
CATEGORIES:AIAU
ATTACH;FMTTYPE=image/jpeg:https://www.aiawinstonsalem.org/wp-content/uploads/2019/01/Members_AIAU.jpg
END:VEVENT
END:VCALENDAR