BEGIN:VCALENDAR
VERSION:2.0
PRODID:-//AIA Winston-Salem - ECPv6.3.1//NONSGML v1.0//EN
CALSCALE:GREGORIAN
METHOD:PUBLISH
X-ORIGINAL-URL:https://www.aiawinstonsalem.org
X-WR-CALDESC:Events for AIA Winston-Salem
REFRESH-INTERVAL;VALUE=DURATION:PT1H
X-Robots-Tag:noindex
X-PUBLISHED-TTL:PT1H
BEGIN:VTIMEZONE
TZID:America/New_York
BEGIN:DAYLIGHT
TZOFFSETFROM:-0500
TZOFFSETTO:-0400
TZNAME:EDT
DTSTART:20200308T070000
END:DAYLIGHT
BEGIN:STANDARD
TZOFFSETFROM:-0400
TZOFFSETTO:-0500
TZNAME:EST
DTSTART:20201101T060000
END:STANDARD
END:VTIMEZONE
BEGIN:VEVENT
DTSTART;TZID=America/New_York:20200430T140000
DTEND;TZID=America/New_York:20200430T150000
DTSTAMP:20260422T234406
CREATED:20200427T130235Z
LAST-MODIFIED:20200427T130235Z
UID:935-1588255200-1588258800@www.aiawinstonsalem.org
SUMMARY:AIAU: Rapid-Response Housing in Pandemic Environments
DESCRIPTION:*1 HSW*\nLIVE WEBINAR COURSE \nKing County\, Washington\, was the “epicenter” of the COVID-19 pandemic in the U.S. Learn how DLR Group partnered with the county to deliver nearly 1\,000 quarantine\, assessment\, and recovery beds in various communities within a matter of weeks through rapid assessment\, design\, and construction methods. Lessons learned will equip designers and communities to better manage pandemic events in the future. \nLearning objectives\n\n\nDescribe the growth of COVID-19 in Washington to explain the needs for quarantine\, assessment\, and recovery beds as key to the rapid response King County developed for this specific population.\nDescribe the approach used to identify and plan the COVID-19 AC/RC sites.\nIdentify conditions at one specific site including process and layout.\nSummarize lessons learned as DLR Group went through the planning and design of multiple sites.
URL:https://www.aiawinstonsalem.org/event/aiau-rapid-response-housing-in-pandemic-environments/
CATEGORIES:AIAU,Webinar
ATTACH;FMTTYPE=image/jpeg:https://www.aiawinstonsalem.org/wp-content/uploads/2019/01/Members_AIAU.jpg
END:VEVENT
END:VCALENDAR