BEGIN:VCALENDAR
VERSION:2.0
PRODID:-//AIA Winston-Salem - ECPv6.3.1//NONSGML v1.0//EN
CALSCALE:GREGORIAN
METHOD:PUBLISH
X-WR-CALNAME:AIA Winston-Salem
X-ORIGINAL-URL:https://www.aiawinstonsalem.org
X-WR-CALDESC:Events for AIA Winston-Salem
REFRESH-INTERVAL;VALUE=DURATION:PT1H
X-Robots-Tag:noindex
X-PUBLISHED-TTL:PT1H
BEGIN:VTIMEZONE
TZID:America/New_York
BEGIN:DAYLIGHT
TZOFFSETFROM:-0500
TZOFFSETTO:-0400
TZNAME:EDT
DTSTART:20200308T070000
END:DAYLIGHT
BEGIN:STANDARD
TZOFFSETFROM:-0400
TZOFFSETTO:-0500
TZNAME:EST
DTSTART:20201101T060000
END:STANDARD
END:VTIMEZONE
BEGIN:VEVENT
DTSTART;TZID=America/New_York:20200519T150000
DTEND;TZID=America/New_York:20200519T160000
DTSTAMP:20260422T234330
CREATED:20200427T131216Z
LAST-MODIFIED:20200427T131216Z
UID:937-1589900400-1589904000@www.aiawinstonsalem.org
SUMMARY:AIAU: Acoustics in Open-to-Structure Environments
DESCRIPTION:*1 LU*\nLIVE WEBINAR COURSE \nAs more and more commercial interiors\, from offices to schools\, veer toward open concepts and exposed structures\, the spaces become susceptible to noise. And for occupants\, excessive noise can lead to increased stress\, lower productivity\, decreased focus\, and poor communication. This session will help architects understand the challenge by exploring how sound is generated\, transmitted\, and reverberates. Attendees will learn a simpler approach to sabins\, how to calculate absorption\, and how to apply that knowledge to designing ceiling systems that hit the sweet spot for noise reduction. \nLearning Objectives:\n\nAddress acoustical design challenges in open-to-structure spaces.\nReview fundamentals of sound and define key acoustical terms.\nExplain and compare various measures of sound absorption.\nDefine reverberation time as a key room acoustic design parameter.\nExamine acoustical treatments best suited for open to structure spaces and review sample reverberation time calculations.
URL:https://www.aiawinstonsalem.org/event/aiau-acoustics-in-open-to-structure-environments/
CATEGORIES:AIAU,Webinar
ATTACH;FMTTYPE=image/jpeg:https://www.aiawinstonsalem.org/wp-content/uploads/2019/01/Members_AIAU.jpg
END:VEVENT
END:VCALENDAR