BEGIN:VCALENDAR
VERSION:2.0
PRODID:-//AIA Winston-Salem - ECPv6.3.1//NONSGML v1.0//EN
CALSCALE:GREGORIAN
METHOD:PUBLISH
X-WR-CALNAME:AIA Winston-Salem
X-ORIGINAL-URL:https://www.aiawinstonsalem.org
X-WR-CALDESC:Events for AIA Winston-Salem
REFRESH-INTERVAL;VALUE=DURATION:PT1H
X-Robots-Tag:noindex
X-PUBLISHED-TTL:PT1H
BEGIN:VTIMEZONE
TZID:America/New_York
BEGIN:DAYLIGHT
TZOFFSETFROM:-0500
TZOFFSETTO:-0400
TZNAME:EDT
DTSTART:20220313T070000
END:DAYLIGHT
BEGIN:STANDARD
TZOFFSETFROM:-0400
TZOFFSETTO:-0500
TZNAME:EST
DTSTART:20221106T060000
END:STANDARD
END:VTIMEZONE
BEGIN:VEVENT
DTSTART;TZID=America/New_York:20220512T120000
DTEND;TZID=America/New_York:20220512T140000
DTSTAMP:20260422T221541
CREATED:20220504T132106Z
LAST-MODIFIED:20220504T132106Z
UID:1699-1652356800-1652364000@www.aiawinstonsalem.org
SUMMARY:Femme | Book Discussion Lunch
DESCRIPTION:We are going to begin with the book “Ask For It: How Women Can Use the Power of Negotiation to Get What They Really Want” and will be going through it over the next few months. We will be covering the intro and Phase 1: Everything is Negotiable during this meeting. If you feel like you don’t have time to read the book at the moment\, you are welcome to join the lunch and participate in the discussion. Don’t worry if reading isn’t your jam\, we will be incorporating podcasts discussions in the future\, but trust me—this book is worth your time.
URL:https://www.aiawinstonsalem.org/event/femme-book-discussion-lunch/
LOCATION:Cugino Forno WS\, 486 N Patterson Avenue\, Winston Salem\, NC\, 27101
CATEGORIES:Femme // The Collective
ATTACH;FMTTYPE=image/jpeg:https://www.aiawinstonsalem.org/wp-content/uploads/2022/02/introduction-scaled.jpg
ORGANIZER;CN="AIA Winston-Salem":MAILTO:president@aiawinstonsalem.org
END:VEVENT
END:VCALENDAR