BEGIN:VCALENDAR
VERSION:2.0
PRODID:-//AIA Winston-Salem - ECPv6.3.1//NONSGML v1.0//EN
CALSCALE:GREGORIAN
METHOD:PUBLISH
X-ORIGINAL-URL:https://www.aiawinstonsalem.org
X-WR-CALDESC:Events for AIA Winston-Salem
REFRESH-INTERVAL;VALUE=DURATION:PT1H
X-Robots-Tag:noindex
X-PUBLISHED-TTL:PT1H
BEGIN:VTIMEZONE
TZID:America/New_York
BEGIN:DAYLIGHT
TZOFFSETFROM:-0500
TZOFFSETTO:-0400
TZNAME:EDT
DTSTART:20200308T070000
END:DAYLIGHT
BEGIN:STANDARD
TZOFFSETFROM:-0400
TZOFFSETTO:-0500
TZNAME:EST
DTSTART:20201101T060000
END:STANDARD
END:VTIMEZONE
BEGIN:VEVENT
DTSTART;TZID=America/New_York:20200618T130000
DTEND;TZID=America/New_York:20200618T140000
DTSTAMP:20260423T140649
CREATED:20200602T133021Z
LAST-MODIFIED:20200602T133021Z
UID:991-1592485200-1592488800@www.aiawinstonsalem.org
SUMMARY:7 Deadly Construction Contract Clauses
DESCRIPTION:*1 LU*\n\n\nAIA Contract Documents \nConstruction clauses that you believe to be benign\, may actually jeopardize the financial well-being of your design firm\, and the health\, safety\, and welfare of the public. It is imperative for design firms to have a thorough understanding of these “deadly clauses” and how to identify and correct faulty language in order to mitigate associated risks. Join us for a free webinar as presenters review construction contract clauses regarding instruments of service\, right to withhold or offset fees\, reliance on owner supplied information\, coordination of owner’s consultants\, limiting liability\, compliance with civil rights legislation\, and prevailing party clauses. \nAttendees will: \n\nKnow how to establish an effective process for conducting a thorough review\, interpretation and negotiation of design contracts for construction projects.\nReview common problematic contractual clauses\, often overlooked by the design professional.\nGain tools and strategies for negotiation in order to remove\, amend or diffuse the harmful language.\nKnow where to access reliable resources and contacts to help in review of agreements.
URL:https://www.aiawinstonsalem.org/event/7-deadly-construction-contract-clauses/
CATEGORIES:AIA Contract Documents,Webinar
ATTACH;FMTTYPE=image/jpeg:https://www.aiawinstonsalem.org/wp-content/uploads/2019/02/AIA-Symbol.jpg
END:VEVENT
END:VCALENDAR