BEGIN:VCALENDAR
VERSION:2.0
PRODID:-//AIA Winston-Salem - ECPv6.3.1//NONSGML v1.0//EN
CALSCALE:GREGORIAN
METHOD:PUBLISH
X-ORIGINAL-URL:https://www.aiawinstonsalem.org
X-WR-CALDESC:Events for AIA Winston-Salem
REFRESH-INTERVAL;VALUE=DURATION:PT1H
X-Robots-Tag:noindex
X-PUBLISHED-TTL:PT1H
BEGIN:VTIMEZONE
TZID:America/New_York
BEGIN:DAYLIGHT
TZOFFSETFROM:-0500
TZOFFSETTO:-0400
TZNAME:EDT
DTSTART:20200308T070000
END:DAYLIGHT
BEGIN:STANDARD
TZOFFSETFROM:-0400
TZOFFSETTO:-0500
TZNAME:EST
DTSTART:20201101T060000
END:STANDARD
END:VTIMEZONE
BEGIN:VEVENT
DTSTART;TZID=America/New_York:20200623T130000
DTEND;TZID=America/New_York:20200623T143000
DTSTAMP:20260423T140649
CREATED:20200602T133945Z
LAST-MODIFIED:20200602T133945Z
UID:993-1592917200-1592922600@www.aiawinstonsalem.org
SUMMARY:Important Changes to the AIA 2019 Construction Manager Documents
DESCRIPTION:*1.5 LUs*\nCo-sponsored by AIA Contract Documents and ABA Forum on Construction Law \n\n\nIn 2019\, the American Institute of Architects (AIA) released updated versions of its construction management family of documents\, including the Construction Manager as Constructor (CMc) and the Construction Manager as Advisor (CMa) documents. \nThe ABA Forum\, in conjunction with the AIA\, has assembled an expert panel to lift up the curtain and explore some of the key changes\, the bases for the changes\, and how they are being interpreted and applied in the industry\, including the individuals who were integrally involved in drafting these documents. Whether you are a construction lawyer\, consultant\, or an industry practitioner\, you won’t want to miss this important program for a summary of the key changes\, from the perspective of project owners and construction managers. \nUse promo code ABAFCLAIA at checkout to receive the AIA Member rate of $95*. \n*Discount code is not valid for AIA Members who are current ABA Forum members.
URL:https://www.aiawinstonsalem.org/event/important-changes-to-the-aia-2019-construction-manager-documents/
CATEGORIES:AIA Contract Documents,Webinar
ATTACH;FMTTYPE=image/jpeg:https://www.aiawinstonsalem.org/wp-content/uploads/2019/02/AIA-Symbol.jpg
END:VEVENT
END:VCALENDAR