BEGIN:VCALENDAR
VERSION:2.0
PRODID:-//AIA Winston-Salem - ECPv6.3.1//NONSGML v1.0//EN
CALSCALE:GREGORIAN
METHOD:PUBLISH
X-WR-CALNAME:AIA Winston-Salem
X-ORIGINAL-URL:https://www.aiawinstonsalem.org
X-WR-CALDESC:Events for AIA Winston-Salem
REFRESH-INTERVAL;VALUE=DURATION:PT1H
X-Robots-Tag:noindex
X-PUBLISHED-TTL:PT1H
BEGIN:VTIMEZONE
TZID:America/New_York
BEGIN:DAYLIGHT
TZOFFSETFROM:-0500
TZOFFSETTO:-0400
TZNAME:EDT
DTSTART:20200308T070000
END:DAYLIGHT
BEGIN:STANDARD
TZOFFSETFROM:-0400
TZOFFSETTO:-0500
TZNAME:EST
DTSTART:20201101T060000
END:STANDARD
END:VTIMEZONE
BEGIN:VEVENT
DTSTART;TZID=America/New_York:20200710T140000
DTEND;TZID=America/New_York:20200710T150000
DTSTAMP:20260423T122607
CREATED:20200602T140157Z
LAST-MODIFIED:20200602T140157Z
UID:999-1594389600-1594393200@www.aiawinstonsalem.org
SUMMARY:What Architects Need to Know: AIA Master Agreements and Task Orders
DESCRIPTION:*1 LU*\nDoes your design firm perform repeat or similar work for the same client or from a consultant? Would you like to manage risk and streamline the contract process for these projects? Geared towards architects\, this webinar will provide an overview of the AIA Master Agreements and Task Orders and explain how they can be used to provide a wide array of select services over the course of several projects. \nAttendees will: \n\nUnderstand how the Master Agreement/Task Order contractual model can be used to establish repeat business with your clients.\nExplore how the Master Agreement/Task Order contractual model can be used to streamline the contracting process with the consultants you use most often.\nExamine the B121™️–2018\, Standard Form of Master Agreement Between Owner and Architect; the C421™️–2018\, Standard Form of Master Agreement Between Architect and Consultant; and relevant service orders to learn how to use these documents properly and effectively.\nKnow where to access resources\, tools and guides to help you understand contract and risk management issues.
URL:https://www.aiawinstonsalem.org/event/what-architects-need-to-know-aia-master-agreements-and-task-orders/
CATEGORIES:AIA Contract Documents,AIA National,Webinar,Webinar
ATTACH;FMTTYPE=image/jpeg:https://www.aiawinstonsalem.org/wp-content/uploads/2019/01/Members_AIAContractDocs.jpg
END:VEVENT
END:VCALENDAR