BEGIN:VCALENDAR
VERSION:2.0
PRODID:-//AIA Winston-Salem - ECPv6.3.1//NONSGML v1.0//EN
CALSCALE:GREGORIAN
METHOD:PUBLISH
X-ORIGINAL-URL:https://www.aiawinstonsalem.org
X-WR-CALDESC:Events for AIA Winston-Salem
REFRESH-INTERVAL;VALUE=DURATION:PT1H
X-Robots-Tag:noindex
X-PUBLISHED-TTL:PT1H
BEGIN:VTIMEZONE
TZID:America/New_York
BEGIN:DAYLIGHT
TZOFFSETFROM:-0500
TZOFFSETTO:-0400
TZNAME:EDT
DTSTART:20200308T070000
END:DAYLIGHT
BEGIN:STANDARD
TZOFFSETFROM:-0400
TZOFFSETTO:-0500
TZNAME:EST
DTSTART:20201101T060000
END:STANDARD
END:VTIMEZONE
BEGIN:VEVENT
DTSTART;TZID=America/New_York:20200910T140000
DTEND;TZID=America/New_York:20200910T150000
DTSTAMP:20260423T090628
CREATED:20200813T125438Z
LAST-MODIFIED:20200813T125438Z
UID:1023-1599746400-1599750000@www.aiawinstonsalem.org
SUMMARY:Answering your Contract Questions with Live Q&A
DESCRIPTION:As an architect\, owner\, or contractor\, properly documenting your projects through contracts documents is one of the most important things you can do to minimize risk and avoid litigation. However\, completing these contract documents can be confusing and you may have many questions throughout the process. \nJoin us for a live Q&A with AIA Contract Documents Information Manager\, Ben Segal\, as he answers commonly asked questions regarding popular AIA documents such as payment applications\, A201 general conditions\, and more! Arm yourself with the knowledge needed to administer contracts in a more efficient and cost-effective way. \nPlease email questions prior to the webinar to hastihejazi@aia.org. \nRegister here: http://acdpages.aia.org/WBN-2020DocInfoQA.html?utm_source=aia-events
URL:https://www.aiawinstonsalem.org/event/answering-your-contract-questions-with-live-qa/
CATEGORIES:AIA Contract Documents,AIA National,Webinar
ATTACH;FMTTYPE=image/jpeg:https://www.aiawinstonsalem.org/wp-content/uploads/2019/01/Members_AIAContractDocs.jpg
END:VEVENT
END:VCALENDAR