BEGIN:VCALENDAR
VERSION:2.0
PRODID:-//AIA Winston-Salem - ECPv6.3.1//NONSGML v1.0//EN
CALSCALE:GREGORIAN
METHOD:PUBLISH
X-WR-CALNAME:AIA Winston-Salem
X-ORIGINAL-URL:https://www.aiawinstonsalem.org
X-WR-CALDESC:Events for AIA Winston-Salem
REFRESH-INTERVAL;VALUE=DURATION:PT1H
X-Robots-Tag:noindex
X-PUBLISHED-TTL:PT1H
BEGIN:VTIMEZONE
TZID:America/New_York
BEGIN:DAYLIGHT
TZOFFSETFROM:-0500
TZOFFSETTO:-0400
TZNAME:EDT
DTSTART:20200308T070000
END:DAYLIGHT
BEGIN:STANDARD
TZOFFSETFROM:-0400
TZOFFSETTO:-0500
TZNAME:EST
DTSTART:20201101T060000
END:STANDARD
END:VTIMEZONE
BEGIN:VEVENT
DTSTART;TZID=America/New_York:20200602T120000
DTEND;TZID=America/New_York:20200602T130000
DTSTAMP:20260424T202812
CREATED:20200527T124321Z
LAST-MODIFIED:20200527T124321Z
UID:971-1591099200-1591102800@www.aiawinstonsalem.org
SUMMARY:Acoustics\, Technology\, and Lighting - The Impact of COVID-19
DESCRIPTION:*CE Credit Pending*\nRegistration is REQUIRED by June 2 at 10 AM: event website found in “Details” below.\nPresented by Steven J. Thorburn with Thorburn Associates\nThis session will review the impact COVID-19 will have on building design and systems as it relates to acoustics\, technology\, and lighting design. Acoustically\, the workplace will require redesigning. The current high-density hoteling of workers will not be accepted in the future due to social distancing. This will impact office acoustics as well as noise levels within restaurants. \nOver the last 3 months\, the A/E industry has found that most of us can work from a laptop and if we have a high-speed connection\, can work from home. We have been remotely doing that at client meetings and job sites for years. It is the actual production work that is more efficient on larger and multiple monitors that will create the challenge. \nHuddle rooms will be expanded in our designs – how do we make sure we can fit out these spaces for easy collaboration? \nThere will be increased requirements for hands-free gesturing at public touch screens and digital signage. \nFinally lighting – Can UV lighting help sanitize the environments we travel though. \nThis interactive session will address these questions and any others the participants bring up. \nLearning Objectives: \n\nParticipants will explain how designing a building for social distancing can impact speech privacy and speech intelligibility\nParticipants will describe why the finish materials that affect the buildup of sound within a space can reduce speech intelligibility\nParticipants will demonstrate best communications practices while participating in video calls and why the physical design and finishes of the room are so critical\nParticipants will identify the critical design elements of wall and floor/ceiling systems and technology components required for collaboration/huddle/zoom rooms\nParticipants will describe the types of UV light and their impact on pathogens and the human body
URL:https://www.aiawinstonsalem.org/event/acoustics-technology-and-lighting-the-impact-of-covid-19/
CATEGORIES:Webinar
ATTACH;FMTTYPE=image/jpeg:https://www.aiawinstonsalem.org/wp-content/uploads/2020/05/Thorburn-200.jpg
END:VEVENT
BEGIN:VEVENT
DTSTART;TZID=America/New_York:20200611T140000
DTEND;TZID=America/New_York:20200611T150000
DTSTAMP:20260424T202812
CREATED:20200602T131815Z
LAST-MODIFIED:20200602T131815Z
UID:989-1591884000-1591887600@www.aiawinstonsalem.org
SUMMARY:The Skill You Need: Career Resilience
DESCRIPTION:*1 LU*\nCOVID-19 has spurred one of the most intense economic downturns of our time. The pandemic has shifted the profession to a virtual workforce overnight and 2020 graduates are entering the profession with a lot of unknowns. Starting your career in the midst of a recession can be intimidating\, but architects learned a few lessons in 2009. Join architects who entered the workforce during the Great Recession of 2008 as they speak to their own experiences\, share some practical steps to move towards economic stability\, and offer guidance on how to maintain mental well-being and build a resilient career. \nIn this webinar you will: \n\nLearn about the experiences of 4 architects as they navigated the beginning of their careers during a recession.\nAssess your inventory of tools and skills to maximize your hiring potential.\nExplore opportunities for engaging community and maintaining mental health during an economic downturn.\nIdentify opportunities for building your career through networking engagements and resources.\n\nREGISTER HERE by June 11 @ 1:30 pm: https://attendee.gotowebinar.com/register/6837325558965448459 \n 
URL:https://www.aiawinstonsalem.org/event/the-skill-you-need-career-resilience/
CATEGORIES:AIA National,Webinar,Webinar
ATTACH;FMTTYPE=image/jpeg:https://www.aiawinstonsalem.org/wp-content/uploads/2019/02/AIA-Symbol.jpg
END:VEVENT
BEGIN:VEVENT
DTSTART;TZID=America/New_York:20200624T140000
DTEND;TZID=America/New_York:20200624T150000
DTSTAMP:20260424T202812
CREATED:20200602T134517Z
LAST-MODIFIED:20200602T134517Z
UID:995-1593007200-1593010800@www.aiawinstonsalem.org
SUMMARY:How to Choose the Right AIA Document for your Project
DESCRIPTION:*1 LU*\nAIA Contract Documents \n\n\nJoin this free webinar as AIA Contract Documents Committee members\, who are experienced design firm practitioners\, review the various families of documents and examine how to select the appropriate Owner/Architect agreements to fit your project size and complexity. Presenters discuss their own projects as case studies during a panel discussion that includes the process of selecting\, negotiating and drafting AIA contracts. \nAttendees will: \n\nReview and become familiar with the AIA document families and the various project delivery methods.\nExamine AIA Owner-Architect agreements to confidently select the appropriate documents based on project size and complexity.\nExamine projects designed by AIA Contract Documents Committee members and learn about the process they used to choose\, negotiate and draft the appropriate documents and forms for their projects.\nLearn where to access resources\, education and guides to assist you in choosing and drafting the right documents to fit your needs.
URL:https://www.aiawinstonsalem.org/event/how-to-choose-the-right-aia-document-for-your-project/
CATEGORIES:AIA Contract Documents,Webinar
ATTACH;FMTTYPE=image/jpeg:https://www.aiawinstonsalem.org/wp-content/uploads/2019/02/AIA-Symbol.jpg
END:VEVENT
END:VCALENDAR