BEGIN:VCALENDAR
VERSION:2.0
PRODID:-//AIA Winston-Salem - ECPv6.3.1//NONSGML v1.0//EN
CALSCALE:GREGORIAN
METHOD:PUBLISH
X-WR-CALNAME:AIA Winston-Salem
X-ORIGINAL-URL:https://www.aiawinstonsalem.org
X-WR-CALDESC:Events for AIA Winston-Salem
REFRESH-INTERVAL;VALUE=DURATION:PT1H
X-Robots-Tag:noindex
X-PUBLISHED-TTL:PT1H
BEGIN:VTIMEZONE
TZID:America/New_York
BEGIN:DAYLIGHT
TZOFFSETFROM:-0500
TZOFFSETTO:-0400
TZNAME:EDT
DTSTART:20200308T070000
END:DAYLIGHT
BEGIN:STANDARD
TZOFFSETFROM:-0400
TZOFFSETTO:-0500
TZNAME:EST
DTSTART:20201101T060000
END:STANDARD
END:VTIMEZONE
BEGIN:VEVENT
DTSTART;TZID=America/New_York:20201123T120000
DTEND;TZID=America/New_York:20201123T130000
DTSTAMP:20260424T124331
CREATED:20201119T175423Z
LAST-MODIFIED:20201119T175540Z
UID:1066-1606132800-1606136400@www.aiawinstonsalem.org
SUMMARY:AIAWS | November Section Lunch
DESCRIPTION:Leadership by Design\n*1 LU*\nLauren Frye\, AIA is the Architect in Residence + Design Thinking Instructor at Forsyth County Day School and a Project Architect at Walter Robbs. Lauren led high school students through the Leadership by Design Summer Camps in the summer of 2020. Join us to hear Lauren review how the students used the design process to engage with local organizations in proposing solutions to systemic challenges facing our world\, while making a positive impact on Winston-Salem’s community.
URL:https://www.aiawinstonsalem.org/event/aiaws-november-section-lunch/
CATEGORIES:AIA Winston-Salem,Speaker Lunch,Webinar
ATTACH;FMTTYPE=image/png:https://www.aiawinstonsalem.org/wp-content/uploads/2020/05/Screenshot_20200515-1856592.png
ORGANIZER;CN="AIA Winston-Salem":MAILTO:president@aiawinstonsalem.org
END:VEVENT
END:VCALENDAR