BEGIN:VCALENDAR
VERSION:2.0
PRODID:-//AIA Winston-Salem - ECPv6.3.1//NONSGML v1.0//EN
CALSCALE:GREGORIAN
METHOD:PUBLISH
X-ORIGINAL-URL:https://www.aiawinstonsalem.org
X-WR-CALDESC:Events for AIA Winston-Salem
REFRESH-INTERVAL;VALUE=DURATION:PT1H
X-Robots-Tag:noindex
X-PUBLISHED-TTL:PT1H
BEGIN:VTIMEZONE
TZID:America/New_York
BEGIN:DAYLIGHT
TZOFFSETFROM:-0500
TZOFFSETTO:-0400
TZNAME:EDT
DTSTART:20210314T070000
END:DAYLIGHT
BEGIN:STANDARD
TZOFFSETFROM:-0400
TZOFFSETTO:-0500
TZNAME:EST
DTSTART:20211107T060000
END:STANDARD
END:VTIMEZONE
BEGIN:VEVENT
DTSTART;TZID=America/New_York:20210311T100000
DTEND;TZID=America/New_York:20210311T140000
DTSTAMP:20260424T070845
CREATED:20210302T140445Z
LAST-MODIFIED:20210302T140445Z
UID:1174-1615456800-1615471200@www.aiawinstonsalem.org
SUMMARY:Business Planning & Management Basics for Small Firm Architects
DESCRIPTION:Interactive Workshop: Business Planning and Management Basics for Small Firm Architects \nLeading a design firm offers a variety of unique challenges and opportunities. An unpredictable business environment and quickening pace of change requires firm owners to adapt\, but how can firm owners proactively prepare for growth in uncertain times? We will explore strategies for business planning and effective management within an environment of unpredictability\, including case studies illustrating best practices. \n4 LU Hours
URL:https://www.aiawinstonsalem.org/event/business-planning-management-basics-for-small-firm-architects/
CATEGORIES:AIA North Carolina
ATTACH;FMTTYPE=image/png:https://www.aiawinstonsalem.org/wp-content/uploads/2021/03/aia-nc.png
ORGANIZER;CN="AIA North Carolina":MAILTO:info@aianc.org
END:VEVENT
BEGIN:VEVENT
DTSTART;TZID=America/New_York:20210324T110000
DTEND;TZID=America/New_York:20210324T130000
DTSTAMP:20260424T070845
CREATED:20210302T143315Z
LAST-MODIFIED:20210302T143315Z
UID:1179-1616583600-1616590800@www.aiawinstonsalem.org
SUMMARY:AIANC Environmental Stewardship Series - Part 2
DESCRIPTION:Designing for Future Energy Trends\n2 HSW Hours\nAs an architect\, how can I use the current and future energy trends in the design process to create buildings that can adapt to the future? We will provide an overview of the history of energy generation and how electricity rapidly changed how buildings function. We will explore how architects can prepare for the continuing changes in the industry. We will also discuss the concept of electrification and how utility companies are planning for its future use in their delivery of power with the goal of carbon reduction. We will also touch on regulatory considerations utility companies must address in their planning for future generation\, distribution and pricing.
URL:https://www.aiawinstonsalem.org/event/aianc-environmental-stewardship-series-part-2/
CATEGORIES:AIA North Carolina
ATTACH;FMTTYPE=image/png:https://www.aiawinstonsalem.org/wp-content/uploads/2021/03/aia-nc.png
ORGANIZER;CN="AIA North Carolina":MAILTO:info@aianc.org
END:VEVENT
BEGIN:VEVENT
DTSTART;TZID=America/New_York:20210324T123000
DTEND;TZID=America/New_York:20210324T133000
DTSTAMP:20260424T070845
CREATED:20210308T204809Z
LAST-MODIFIED:20210308T204809Z
UID:1202-1616589000-1616592600@www.aiawinstonsalem.org
SUMMARY:Thin Brick - An Exploration of Unlimited Options and Potential
DESCRIPTION:*1 HSW*\nThis program will discuss thin brick manufacturing\, sustainability and unique brick detailing when thin clay brick is employed in building design. Discussions will be on how brick are formed which allow for an almost endless array of creativity using sizes\, colors\, patterns\, articulation\, etc.. to design walls. The many ways in which thin brick can be installed will also be discussed including thin brick embedded into precast concrete panels\, adhered thin brick veneers\, thin brick metal panel spacing panel systems etc. \nSpecifically we will focus on: \n• Different methods of manufacturing thin brick\n• Precast concrete wall assemblies with thin brick embedded in the panels and the many benefits of this type of construction including the idea of mass walls\n• Adhered thin brick veneers both exterior and interior installed with super flexible polymer fortified mortars and cement board as well as thin brick adhered to “metal panel spacing” systems\n• Understanding the mechanisms of adhered veneer failures of the past and how new systems address and eliminate these concerns\n• Discussion of barrier wall\, drainage plane wall\, and insulated drainage plane wall design\n• How to achieve an Energy Code (ASHRAE 90.1/IECC/SB-10) compliant wall design even when using a thin adhered brick
URL:https://www.aiawinstonsalem.org/event/thin-brick-an-exploration-of-unlimited-options-and-potential/
CATEGORIES:Webinar
ATTACH;FMTTYPE=image/png:https://www.aiawinstonsalem.org/wp-content/uploads/2020/12/arriscraft-logo.png
END:VEVENT
BEGIN:VEVENT
DTSTART;TZID=America/New_York:20210325T120000
DTEND;TZID=America/New_York:20210325T133000
DTSTAMP:20260424T070845
CREATED:20210302T150503Z
LAST-MODIFIED:20210302T150503Z
UID:1185-1616673600-1616679000@www.aiawinstonsalem.org
SUMMARY:AOL: Getting it Right for your Commercial Facade
DESCRIPTION:Guardian Fabrication: Getting it Right for your Commercial Façade with Guardian Glass\n1.5 HSW Hours\n\nThis Guardian Glass CEU is intended to help architect appreciate the value of fabrication as he stepped in the total glassmaking process – as well as the fabrication choices and consideration they should know for their projects.\n\n\n\nFrom the beginning of the glass selection process\, architects face many options. From the glass substrate and coatings to fabrication\, there are choices for almost every imaginable application. Fabrication can play an important role in aesthetics and performance – and helping create a safe environment for occupants.\nUpon completion\, participants will be able to understand the vital role of fabrication in glass for commercial facades\, know how for fabrication factors into today’s glass trends\, be able to identify ways fabrication can help achieve project goals for energy performance\, safety and security\, and design vision\, as well as be able to navigate fabrication choices and requirements.
URL:https://www.aiawinstonsalem.org/event/aol-getting-it-right-for-your-commercial-facade/
CATEGORIES:Aspire Online Learning,Webinar
ATTACH;FMTTYPE=image/png:https://www.aiawinstonsalem.org/wp-content/uploads/2021/02/AOL.png
END:VEVENT
END:VCALENDAR