BEGIN:VCALENDAR
VERSION:2.0
PRODID:-//AIA Winston-Salem - ECPv6.3.1//NONSGML v1.0//EN
CALSCALE:GREGORIAN
METHOD:PUBLISH
X-WR-CALNAME:AIA Winston-Salem
X-ORIGINAL-URL:https://www.aiawinstonsalem.org
X-WR-CALDESC:Events for AIA Winston-Salem
REFRESH-INTERVAL;VALUE=DURATION:PT1H
X-Robots-Tag:noindex
X-PUBLISHED-TTL:PT1H
BEGIN:VTIMEZONE
TZID:America/New_York
BEGIN:DAYLIGHT
TZOFFSETFROM:-0500
TZOFFSETTO:-0400
TZNAME:EDT
DTSTART:20220313T070000
END:DAYLIGHT
BEGIN:STANDARD
TZOFFSETFROM:-0400
TZOFFSETTO:-0500
TZNAME:EST
DTSTART:20221106T060000
END:STANDARD
END:VTIMEZONE
BEGIN:VEVENT
DTSTART;TZID=America/New_York:20220215T120000
DTEND;TZID=America/New_York:20220215T130000
DTSTAMP:20260423T153151
CREATED:20220109T233935Z
LAST-MODIFIED:20220109T233935Z
UID:1544-1644926400-1644930000@www.aiawinstonsalem.org
SUMMARY:AIAWS | February Section Lunch
DESCRIPTION:Design and Wellness in Educational Settings\nAmanda Gale\, Ph.D.\, NCIDQ\, WELL AP\, LEED AP (BD+C)\, Graduate Program Director + Internship Coordinator\n 
URL:https://www.aiawinstonsalem.org/event/aiaws-february-section-lunch-3/
LOCATION:The Barn at Reynolda Village\, 106 Reynolda Village\, Winston-Salem\, NC\, 27106\, United States
CATEGORIES:AIA Winston-Salem,Speaker Lunch
ATTACH;FMTTYPE=image/png:https://www.aiawinstonsalem.org/wp-content/uploads/2019/06/Speaker-Lunch-Graphic.png
ORGANIZER;CN="AIA Winston-Salem":MAILTO:president@aiawinstonsalem.org
END:VEVENT
BEGIN:VEVENT
DTSTART;TZID=America/New_York:20220222T120000
DTEND;TZID=America/New_York:20220222T130000
DTSTAMP:20260423T153151
CREATED:20220110T001948Z
LAST-MODIFIED:20220126T213621Z
UID:1553-1645531200-1645534800@www.aiawinstonsalem.org
SUMMARY:AIAWS | February Lunch and Learn
DESCRIPTION:High Pressure Laminate\npresented by Wilsonart\nDurability\, certified wood content\, and high post-consumer recycled content make HPL a sustainable product for commercial and residential designs. This CEU explores the characteristic of high-pressure laminate that contribute to favorable design and performance attributes in building interiors. We will also look at the standards that demonstrate sustainability in terms of environmental and health impacts and assess the ways that HPL can contribute to green and sustainable building designs that seek certification from LEED\, WELL\, or other standards.
URL:https://www.aiawinstonsalem.org/event/aiaws-february-lunch-and-learn/
LOCATION:The Barn at Reynolda Village\, 106 Reynolda Village\, Winston-Salem\, NC\, 27106\, United States
CATEGORIES:AIA Winston-Salem,Lunch & Learn
ATTACH;FMTTYPE=image/jpeg:https://www.aiawinstonsalem.org/wp-content/uploads/2022/01/february-wilsonart.jpg
ORGANIZER;CN="AIA Winston-Salem":MAILTO:president@aiawinstonsalem.org
END:VEVENT
END:VCALENDAR