BEGIN:VCALENDAR
VERSION:2.0
PRODID:-//AIA Winston-Salem - ECPv6.3.1//NONSGML v1.0//EN
CALSCALE:GREGORIAN
METHOD:PUBLISH
X-ORIGINAL-URL:https://www.aiawinstonsalem.org
X-WR-CALDESC:Events for AIA Winston-Salem
REFRESH-INTERVAL;VALUE=DURATION:PT1H
X-Robots-Tag:noindex
X-PUBLISHED-TTL:PT1H
BEGIN:VTIMEZONE
TZID:America/New_York
BEGIN:DAYLIGHT
TZOFFSETFROM:-0500
TZOFFSETTO:-0400
TZNAME:EDT
DTSTART:20230312T070000
END:DAYLIGHT
BEGIN:STANDARD
TZOFFSETFROM:-0400
TZOFFSETTO:-0500
TZNAME:EST
DTSTART:20231105T060000
END:STANDARD
END:VTIMEZONE
BEGIN:VEVENT
DTSTART;VALUE=DATE:20230214
DTEND;VALUE=DATE:20230218
DTSTAMP:20260422T202146
CREATED:20230131T021621Z
LAST-MODIFIED:20230131T021639Z
UID:1861-1676332800-1676678399@www.aiawinstonsalem.org
SUMMARY:AIA Leadership Summit
DESCRIPTION:After two years of virtual gatherings\, AIA’s premier chapter leadership training event returns to Washington\, DC\, February 14–17 with a new name and an exceptional program. Join us at AIA Leadership Summit 2023 (formerly Grassroots) for four days of vital leadership training designed to help you be an effective leader in your chapter\, firm\, and community. \nAIA Leadership Summit brings together AIA volunteer leaders\, chapter executives\, and chapter staff across regions\, specialties\, firm sizes\, and career stages. This year’s theme—Architecture’s Generations at Work—focuses on building bridges to create a better world and a stronger profession\, skills you can apply to every facet of your professional life. \nThis event is always one of AIA’s best-attended events. This year\, reconnecting in person makes it even more special. Register today to reserve your seat!
URL:https://www.aiawinstonsalem.org/event/aia-leadership-summit/
LOCATION:Marriott Marquis\, 901 Massachusetts Ave NW\, Washington\, DC\, 20001\, United States
CATEGORIES:AIA National,Conference
ATTACH;FMTTYPE=image/jpeg:https://www.aiawinstonsalem.org/wp-content/uploads/2023/01/aia23-scaled.jpg
END:VEVENT
BEGIN:VEVENT
DTSTART;TZID=America/New_York:20230215T090000
DTEND;TZID=America/New_York:20230215T100000
DTSTAMP:20260422T202146
CREATED:20230131T010311Z
LAST-MODIFIED:20230202T162904Z
UID:1818-1676451600-1676455200@www.aiawinstonsalem.org
SUMMARY:Femme | Coffee + Book Discussion
DESCRIPTION:We will be discussing concepts/exercises from Embrace the Work\, Love Your Career by Fran Hauser during the February and March gatherings. You can purchase the book from Amazon or simply attend and take part in the discussion. You don’t need to read/work through the book to join\, but the more people who go through the book\, the richer our discussion will be. \n  \nNote: we will meet at SaySo Coffee’s new location!
URL:https://www.aiawinstonsalem.org/event/femme-coffee-book-discussion/
LOCATION:SaySo Coffee\, 15 Brookstown Ave\,\, Winston Salem\, NC\, 27101\, United States
CATEGORIES:AIA Winston-Salem,Femme // The Collective
ATTACH;FMTTYPE=image/jpeg:https://www.aiawinstonsalem.org/wp-content/uploads/2022/02/introduction-scaled.jpg
ORGANIZER;CN="AIA Winston-Salem":MAILTO:president@aiawinstonsalem.org
END:VEVENT
BEGIN:VEVENT
DTSTART;VALUE=DATE:20230219
DTEND;VALUE=DATE:20230220
DTSTAMP:20260422T202146
CREATED:20230131T152807Z
LAST-MODIFIED:20230131T152908Z
UID:1867-1676764800-1676851199@www.aiawinstonsalem.org
SUMMARY:ACTIVATE Submission Deadline
DESCRIPTION:Each year\, up to $40\,000 is granted to support programs that encourage this engagement. Anyone can apply for a grant\, but the submissions will be reviewed by the leadership of one of our seven local AIA Sections.\n2023 TIMELINE\nJan 11 – Call for Submissions Opens \nFeb 19 – All Submissions due through online form \nMarch 22 – Notification of Program approval \n  \nWhen you are ready to submit\, use the online Call for Submissions form here.\nFeel free to download the Call for Submissions form TEMPLATE here\, or at the link at the top of the page.
URL:https://www.aiawinstonsalem.org/event/activate-deadline/
CATEGORIES:AIA North Carolina
ATTACH;FMTTYPE=image/png:https://www.aiawinstonsalem.org/wp-content/uploads/2023/01/activate-logo.png
END:VEVENT
BEGIN:VEVENT
DTSTART;TZID=America/New_York:20230221T120000
DTEND;TZID=America/New_York:20230221T130000
DTSTAMP:20260422T202146
CREATED:20230131T005429Z
LAST-MODIFIED:20230202T141458Z
UID:1814-1676980800-1676984400@www.aiawinstonsalem.org
SUMMARY:February Section Lunch
DESCRIPTION:We invite you to join Zakiya Wiggins\, NCNOMA President & architect as well as Daniel Mai\, NCNOMA Secretary & HR professional for a conversation on current initiatives and future opportunities to support diversifying architecture. We are focused on partnerships across the industry and fostering the growth of a diverse workforce. We have many exciting opportunities to collaborate this year and would welcome more volunteers across the state. \n  \nCredit: 1 LU \nNon-Member Price: $25 (please bring exact change)
URL:https://www.aiawinstonsalem.org/event/february-section-lunch/
CATEGORIES:AIA Winston-Salem,Speaker Lunch
ATTACH;FMTTYPE=image/jpeg:https://www.aiawinstonsalem.org/wp-content/uploads/2023/01/171229-NCNOMA-Logo.jpg
ORGANIZER;CN="AIA Winston-Salem":MAILTO:president@aiawinstonsalem.org
END:VEVENT
END:VCALENDAR