BEGIN:VCALENDAR
VERSION:2.0
PRODID:-//AIA Winston-Salem - ECPv6.3.1//NONSGML v1.0//EN
CALSCALE:GREGORIAN
METHOD:PUBLISH
X-ORIGINAL-URL:https://www.aiawinstonsalem.org
X-WR-CALDESC:Events for AIA Winston-Salem
REFRESH-INTERVAL;VALUE=DURATION:PT1H
X-Robots-Tag:noindex
X-PUBLISHED-TTL:PT1H
BEGIN:VTIMEZONE
TZID:America/New_York
BEGIN:DAYLIGHT
TZOFFSETFROM:-0500
TZOFFSETTO:-0400
TZNAME:EDT
DTSTART:20230312T070000
END:DAYLIGHT
BEGIN:STANDARD
TZOFFSETFROM:-0400
TZOFFSETTO:-0500
TZNAME:EST
DTSTART:20231105T060000
END:STANDARD
END:VTIMEZONE
BEGIN:VEVENT
DTSTART;TZID=America/New_York:20231114T120000
DTEND;TZID=America/New_York:20231114T130000
DTSTAMP:20260422T061912
CREATED:20230131T015939Z
LAST-MODIFIED:20231107T193855Z
UID:1852-1699963200-1699966800@www.aiawinstonsalem.org
SUMMARY:November Section Lunch
DESCRIPTION:Tracy Phillips | City of Winston-Salem Building Department
URL:https://www.aiawinstonsalem.org/event/november-section-lunch-2/
CATEGORIES:AIA Winston-Salem,Speaker Lunch
ATTACH;FMTTYPE=image/jpeg:https://www.aiawinstonsalem.org/wp-content/uploads/2021/06/AIA-Winston-Salem_RED-BLACK_PMS.jpg
ORGANIZER;CN="AIA Winston-Salem":MAILTO:president@aiawinstonsalem.org
END:VEVENT
BEGIN:VEVENT
DTSTART;TZID=America/New_York:20231128T120000
DTEND;TZID=America/New_York:20231128T130000
DTSTAMP:20260422T061912
CREATED:20230131T020101Z
LAST-MODIFIED:20231107T193756Z
UID:1854-1701172800-1701176400@www.aiawinstonsalem.org
SUMMARY:November Lunch & Learn
DESCRIPTION:WilsonArt
URL:https://www.aiawinstonsalem.org/event/november-lunch-learn/
CATEGORIES:AIA Winston-Salem,Lunch & Learn
ATTACH;FMTTYPE=image/jpeg:https://www.aiawinstonsalem.org/wp-content/uploads/2020/06/Lunch-and-Learn-02.jpg
ORGANIZER;CN="AIA Winston-Salem":MAILTO:president@aiawinstonsalem.org
END:VEVENT
END:VCALENDAR