BEGIN:VCALENDAR
VERSION:2.0
PRODID:-//AIA Winston-Salem - ECPv6.3.1//NONSGML v1.0//EN
CALSCALE:GREGORIAN
METHOD:PUBLISH
X-WR-CALNAME:AIA Winston-Salem
X-ORIGINAL-URL:https://www.aiawinstonsalem.org
X-WR-CALDESC:Events for AIA Winston-Salem
REFRESH-INTERVAL;VALUE=DURATION:PT1H
X-Robots-Tag:noindex
X-PUBLISHED-TTL:PT1H
BEGIN:VTIMEZONE
TZID:America/New_York
BEGIN:DAYLIGHT
TZOFFSETFROM:-0500
TZOFFSETTO:-0400
TZNAME:EDT
DTSTART:20230312T070000
END:DAYLIGHT
BEGIN:STANDARD
TZOFFSETFROM:-0400
TZOFFSETTO:-0500
TZNAME:EST
DTSTART:20231105T060000
END:STANDARD
END:VTIMEZONE
BEGIN:VEVENT
DTSTART;TZID=America/New_York:20231205T120000
DTEND;TZID=America/New_York:20231205T130000
DTSTAMP:20260422T050005
CREATED:20230131T020234Z
LAST-MODIFIED:20231107T193739Z
UID:1856-1701777600-1701781200@www.aiawinstonsalem.org
SUMMARY:December Lunch and Learn
DESCRIPTION:Styro Systems
URL:https://www.aiawinstonsalem.org/event/december-section-lunch-2/
CATEGORIES:AIA Winston-Salem,Lunch & Learn
ATTACH;FMTTYPE=image/jpeg:https://www.aiawinstonsalem.org/wp-content/uploads/2021/06/AIA-Winston-Salem_RED-BLACK_PMS.jpg
ORGANIZER;CN="AIA Winston-Salem":MAILTO:president@aiawinstonsalem.org
END:VEVENT
END:VCALENDAR