BEGIN:VCALENDAR
VERSION:2.0
PRODID:-//AIA Winston-Salem - ECPv6.3.1//NONSGML v1.0//EN
CALSCALE:GREGORIAN
METHOD:PUBLISH
X-ORIGINAL-URL:https://www.aiawinstonsalem.org
X-WR-CALDESC:Events for AIA Winston-Salem
REFRESH-INTERVAL;VALUE=DURATION:PT1H
X-Robots-Tag:noindex
X-PUBLISHED-TTL:PT1H
BEGIN:VTIMEZONE
TZID:America/New_York
BEGIN:DAYLIGHT
TZOFFSETFROM:-0500
TZOFFSETTO:-0400
TZNAME:EDT
DTSTART:20210314T070000
END:DAYLIGHT
BEGIN:STANDARD
TZOFFSETFROM:-0400
TZOFFSETTO:-0500
TZNAME:EST
DTSTART:20211107T060000
END:STANDARD
END:VTIMEZONE
BEGIN:VEVENT
DTSTART;TZID=America/New_York:20210107T120000
DTEND;TZID=America/New_York:20210107T133000
DTSTAMP:20260424T113124
CREATED:20210104T205135Z
LAST-MODIFIED:20210104T220224Z
UID:1116-1610020800-1610026200@www.aiawinstonsalem.org
SUMMARY:Aspire Online Learning: 2021 AIA $timulus Plan Update
DESCRIPTION:Covid CARES Act\, Cost Segregation\, Energy Tax Credits\, R&D Tax Credits and Designer Strategies\n*1.5 LU Hours*\nMaster class on the latest specialty tax benefits and strategies in recent CARES Act of 2020\, Coronavirus Relief and Tax Extenders Bill that just renewed some important original Energy Policy Act incentives for the design of energy-efficient buildings and renewable energy. \nUpdate on all Federal\, State and Local programs that may apply retroactively in addition to current and future projects to help maximize results. Valuable tax credit and incentives discussed will include EPAct 179D $1.80 per sf deductions\, 45L $2000 per unit residential energy tax credits\, Opportunity Zones\, Solar and Renewable Energy tax credits\, Historic tax credits and the powerful R&D tax credit to help architects and engineers developing innovative products\, processes and designs. \nRegister <here>
URL:https://www.aiawinstonsalem.org/event/2021-aia-timulus-plan-update/
CATEGORIES:Aspire Online Learning,Webinar
ATTACH;FMTTYPE=image/jpeg:https://www.aiawinstonsalem.org/wp-content/uploads/2021/01/engineered-tax-services.jpg
END:VEVENT
END:VCALENDAR