BEGIN:VCALENDAR
VERSION:2.0
PRODID:-//AIA Winston-Salem - ECPv6.3.1//NONSGML v1.0//EN
CALSCALE:GREGORIAN
METHOD:PUBLISH
X-WR-CALNAME:AIA Winston-Salem
X-ORIGINAL-URL:https://www.aiawinstonsalem.org
X-WR-CALDESC:Events for AIA Winston-Salem
REFRESH-INTERVAL;VALUE=DURATION:PT1H
X-Robots-Tag:noindex
X-PUBLISHED-TTL:PT1H
BEGIN:VTIMEZONE
TZID:America/New_York
BEGIN:DAYLIGHT
TZOFFSETFROM:-0500
TZOFFSETTO:-0400
TZNAME:EDT
DTSTART:20220313T070000
END:DAYLIGHT
BEGIN:STANDARD
TZOFFSETFROM:-0400
TZOFFSETTO:-0500
TZNAME:EST
DTSTART:20221106T060000
END:STANDARD
END:VTIMEZONE
BEGIN:VEVENT
DTSTART;TZID=America/New_York:20220616T173000
DTEND;TZID=America/New_York:20220616T190000
DTSTAMP:20260423T110817
CREATED:20220608T131658Z
LAST-MODIFIED:20220608T133635Z
UID:1733-1655400600-1655406000@www.aiawinstonsalem.org
SUMMARY:June Happy Hour
DESCRIPTION:We look forward to seeing you and catching up with others in our architecture community!\nNo registration is needed – we hope to see you there!
URL:https://www.aiawinstonsalem.org/event/june-happy-hour/
LOCATION:Ginger Fox Beverage\, 400 W 4th St\, Winston Salem\, NC\, 27101
CATEGORIES:AIA Winston-Salem
ATTACH;FMTTYPE=image/jpeg:https://www.aiawinstonsalem.org/wp-content/uploads/2021/06/Chapter-social-media_RED_800X800.jpg
ORGANIZER;CN="AIA Winston-Salem":MAILTO:president@aiawinstonsalem.org
END:VEVENT
END:VCALENDAR