BEGIN:VCALENDAR
VERSION:2.0
PRODID:-//AIA Winston-Salem - ECPv6.3.1//NONSGML v1.0//EN
CALSCALE:GREGORIAN
METHOD:PUBLISH
X-ORIGINAL-URL:https://www.aiawinstonsalem.org
X-WR-CALDESC:Events for AIA Winston-Salem
REFRESH-INTERVAL;VALUE=DURATION:PT1H
X-Robots-Tag:noindex
X-PUBLISHED-TTL:PT1H
BEGIN:VTIMEZONE
TZID:America/New_York
BEGIN:DAYLIGHT
TZOFFSETFROM:-0500
TZOFFSETTO:-0400
TZNAME:EDT
DTSTART:20230312T070000
END:DAYLIGHT
BEGIN:STANDARD
TZOFFSETFROM:-0400
TZOFFSETTO:-0500
TZNAME:EST
DTSTART:20231105T060000
END:STANDARD
END:VTIMEZONE
BEGIN:VEVENT
DTSTART;TZID=America/New_York:20230131T120000
DTEND;TZID=America/New_York:20230131T130000
DTSTAMP:20260422T214751
CREATED:20230113T134114Z
LAST-MODIFIED:20230113T134114Z
UID:1804-1675166400-1675170000@www.aiawinstonsalem.org
SUMMARY:January Lunch and Learn
DESCRIPTION:Presented by Q. Lighting\nArchitecture & Light – Design for Today and Tomorrow:  Humans have experienced the effects of quality lighting since the dawn of time.  Now\, we not only use light to allow for visual acuity\, but also to create meaningful environments.  Join us as we discuss the concepts of effective lighting design and how we can use them to enhance our architectural applications.  This course’s learning objectives will be provided in future communications.
URL:https://www.aiawinstonsalem.org/event/january-lunch-and-learn/
CATEGORIES:AIA Winston-Salem,Lunch & Learn
ATTACH;FMTTYPE=image/jpeg:https://www.aiawinstonsalem.org/wp-content/uploads/2020/06/Lunch-and-Learn-02.jpg
ORGANIZER;CN="AIA Winston-Salem":MAILTO:president@aiawinstonsalem.org
END:VEVENT
END:VCALENDAR