BEGIN:VCALENDAR
VERSION:2.0
PRODID:-//AIA Winston-Salem - ECPv6.3.1//NONSGML v1.0//EN
CALSCALE:GREGORIAN
METHOD:PUBLISH
X-WR-CALNAME:AIA Winston-Salem
X-ORIGINAL-URL:https://www.aiawinstonsalem.org
X-WR-CALDESC:Events for AIA Winston-Salem
REFRESH-INTERVAL;VALUE=DURATION:PT1H
X-Robots-Tag:noindex
X-PUBLISHED-TTL:PT1H
BEGIN:VTIMEZONE
TZID:America/New_York
BEGIN:DAYLIGHT
TZOFFSETFROM:-0500
TZOFFSETTO:-0400
TZNAME:EDT
DTSTART:20230312T070000
END:DAYLIGHT
BEGIN:STANDARD
TZOFFSETFROM:-0400
TZOFFSETTO:-0500
TZNAME:EST
DTSTART:20231105T060000
END:STANDARD
END:VTIMEZONE
BEGIN:VEVENT
DTSTART;TZID=America/New_York:20230314T120000
DTEND;TZID=America/New_York:20230314T130000
DTSTAMP:20260422T202821
CREATED:20230131T012656Z
LAST-MODIFIED:20230131T012656Z
UID:1825-1678795200-1678798800@www.aiawinstonsalem.org
SUMMARY:Femme | Book Discussion Lunch
DESCRIPTION:We will be discussing concepts/exercises from Embrace the Work\, Love Your Career by Fran Hauser during the February and March gatherings. You can purchase the book from Amazon or simply attend and take part in the discussion. You don’t need to read/work through the book to join\, but the more people who go through the book\, the richer our time will be in discussion. We will be meeting at Willow’s Bistro.
URL:https://www.aiawinstonsalem.org/event/femme-book-discussion-lunch-2/
LOCATION:Willow’s Bistro\, 300 S Liberty St #125\, Winston Salem\, NC\, 27101\, United States
CATEGORIES:AIA Winston-Salem,Femme // The Collective
ATTACH;FMTTYPE=image/jpeg:https://www.aiawinstonsalem.org/wp-content/uploads/2022/02/introduction-scaled.jpg
ORGANIZER;CN="AIA Winston-Salem":MAILTO:president@aiawinstonsalem.org
END:VEVENT
END:VCALENDAR