BEGIN:VCALENDAR
VERSION:2.0
PRODID:-//AIA Winston-Salem - ECPv6.3.1//NONSGML v1.0//EN
CALSCALE:GREGORIAN
METHOD:PUBLISH
X-WR-CALNAME:AIA Winston-Salem
X-ORIGINAL-URL:https://www.aiawinstonsalem.org
X-WR-CALDESC:Events for AIA Winston-Salem
REFRESH-INTERVAL;VALUE=DURATION:PT1H
X-Robots-Tag:noindex
X-PUBLISHED-TTL:PT1H
BEGIN:VTIMEZONE
TZID:America/New_York
BEGIN:DAYLIGHT
TZOFFSETFROM:-0500
TZOFFSETTO:-0400
TZNAME:EDT
DTSTART:20230312T070000
END:DAYLIGHT
BEGIN:STANDARD
TZOFFSETFROM:-0400
TZOFFSETTO:-0500
TZNAME:EST
DTSTART:20231105T060000
END:STANDARD
END:VTIMEZONE
BEGIN:VEVENT
DTSTART;TZID=America/New_York:20230525T173000
DTEND;TZID=America/New_York:20230525T183000
DTSTAMP:20260422T170103
CREATED:20230501T134928Z
LAST-MODIFIED:20230501T134928Z
UID:1906-1685035800-1685039400@www.aiawinstonsalem.org
SUMMARY:AIAWS | Happy Hour
DESCRIPTION:Mark your calendars for the next Happy Hour social right up the road at Fiddlin’ Fish Brewing! We look forward to connecting with you and our fellow professionals around our city!
URL:https://www.aiawinstonsalem.org/event/aiaws-happy-hour-2/
LOCATION:Fiddlin’ Fish
CATEGORIES:AIA Winston-Salem
ATTACH;FMTTYPE=image/jpeg:https://www.aiawinstonsalem.org/wp-content/uploads/2021/06/AIA-Winston-Salem_RED-BLACK_PMS.jpg
ORGANIZER;CN="AIA Winston-Salem":MAILTO:president@aiawinstonsalem.org
END:VEVENT
END:VCALENDAR