BEGIN:VCALENDAR
VERSION:2.0
PRODID:-//AIA Winston-Salem - ECPv6.3.1//NONSGML v1.0//EN
CALSCALE:GREGORIAN
METHOD:PUBLISH
X-WR-CALNAME:AIA Winston-Salem
X-ORIGINAL-URL:https://www.aiawinstonsalem.org
X-WR-CALDESC:Events for AIA Winston-Salem
REFRESH-INTERVAL;VALUE=DURATION:PT1H
X-Robots-Tag:noindex
X-PUBLISHED-TTL:PT1H
BEGIN:VTIMEZONE
TZID:America/New_York
BEGIN:DAYLIGHT
TZOFFSETFROM:-0500
TZOFFSETTO:-0400
TZNAME:EDT
DTSTART:20200308T070000
END:DAYLIGHT
BEGIN:STANDARD
TZOFFSETFROM:-0400
TZOFFSETTO:-0500
TZNAME:EST
DTSTART:20201101T060000
END:STANDARD
END:VTIMEZONE
BEGIN:VEVENT
DTSTART;TZID=America/New_York:20200324T120000
DTEND;TZID=America/New_York:20200324T130000
DTSTAMP:20260425T112155
CREATED:20200113T213540Z
LAST-MODIFIED:20200114T203853Z
UID:843-1585051200-1585054800@www.aiawinstonsalem.org
SUMMARY:AIAWS | Lunch & Learn | Maxson and Associates
DESCRIPTION:Opening Doors to Design Opportunities with the Model Building Codes\n** Earn 1 HSW **\nDetails TBD \nRSVP to President@AIAWinstonSalem.org to attend. If you are not a member\, cost of attendance is $15. Please bring exact change.
URL:https://www.aiawinstonsalem.org/event/aiaws-lunch-learn-maxon-and-associates/
LOCATION:Footnote\, 634 W 4th St\, Suite 120\, Winston-Salem\, NC\, 27101\, United States
CATEGORIES:AIA Winston-Salem,Lunch & Learn
ATTACH;FMTTYPE=image/jpeg:https://www.aiawinstonsalem.org/wp-content/uploads/2020/01/maxson-and-associates-logo.jpg
ORGANIZER;CN="AIA Winston-Salem":MAILTO:president@aiawinstonsalem.org
END:VEVENT
END:VCALENDAR