BEGIN:VCALENDAR
VERSION:2.0
PRODID:-//AIA Winston-Salem - ECPv6.3.1//NONSGML v1.0//EN
CALSCALE:GREGORIAN
METHOD:PUBLISH
X-WR-CALNAME:AIA Winston-Salem
X-ORIGINAL-URL:https://www.aiawinstonsalem.org
X-WR-CALDESC:Events for AIA Winston-Salem
REFRESH-INTERVAL;VALUE=DURATION:PT1H
X-Robots-Tag:noindex
X-PUBLISHED-TTL:PT1H
BEGIN:VTIMEZONE
TZID:America/New_York
BEGIN:DAYLIGHT
TZOFFSETFROM:-0500
TZOFFSETTO:-0400
TZNAME:EDT
DTSTART:20200308T070000
END:DAYLIGHT
BEGIN:STANDARD
TZOFFSETFROM:-0400
TZOFFSETTO:-0500
TZNAME:EST
DTSTART:20201101T060000
END:STANDARD
END:VTIMEZONE
BEGIN:VEVENT
DTSTART;TZID=America/New_York:20200504T110000
DTEND;TZID=America/New_York:20200504T120000
DTSTAMP:20260425T074907
CREATED:20200421T223501Z
LAST-MODIFIED:20200421T223501Z
UID:911-1588590000-1588593600@www.aiawinstonsalem.org
SUMMARY:Resinous Flooring and Wall Systems for Food & Beverage
DESCRIPTION:*1 LU/AIA credit*\nPresented by: Michael Carroll \nThe selection of proper floor and wall systems for your food and beverage facility design is a complex decision involving many environmental considerations. The right system protects your investment while the wrong system could result in costly repairs\, damage to the building and its contents\, a possible early replacement\, and regulatory citation or disruption to your business and occupants. \nLearning Objectives \n\nDefining resinous surface systems\nDesign criteria for finishes\nResinous system advantages\nResinous floor and wall systems by area\nLasting impressions
URL:https://www.aiawinstonsalem.org/event/resinous-flooring-and-wall-systems-for-food-beverage/
CATEGORIES:Webinar
ATTACH;FMTTYPE=image/png:https://www.aiawinstonsalem.org/wp-content/uploads/2020/01/sika-flooring-logo.png
END:VEVENT
BEGIN:VEVENT
DTSTART;TZID=America/New_York:20200507T110000
DTEND;TZID=America/New_York:20200507T120000
DTSTAMP:20260425T074907
CREATED:20200427T123023Z
LAST-MODIFIED:20200427T123023Z
UID:924-1588849200-1588852800@www.aiawinstonsalem.org
SUMMARY:Distribution Steel Pole Design and Engineering
DESCRIPTION:Steel Utility Pole Coalition Webinar Series:\nDistribution Steel Pole Design and Engineering\nPresented by: \nDanny Lonergan\, Valmont Utilities
URL:https://www.aiawinstonsalem.org/event/distribution-steel-pole-design-and-engineering/
CATEGORIES:Webinar
ATTACH;FMTTYPE=image/jpeg:https://www.aiawinstonsalem.org/wp-content/uploads/2020/04/american-galvanizers-association-logo.jpg
END:VEVENT
BEGIN:VEVENT
DTSTART;TZID=America/New_York:20200512T110000
DTEND;TZID=America/New_York:20200512T120000
DTSTAMP:20260425T074907
CREATED:20200504T221750Z
LAST-MODIFIED:20200504T221750Z
UID:942-1589281200-1589284800@www.aiawinstonsalem.org
SUMMARY:Masonry iQ
DESCRIPTION:SCMA Concrete Masonry Academy\n*1 HSW*\nFeatured Speaker: Mike Riva
URL:https://www.aiawinstonsalem.org/event/masonry-iq/
CATEGORIES:Webinar
ATTACH;FMTTYPE=image/png:https://www.aiawinstonsalem.org/wp-content/uploads/2020/05/Gray_SCMA-Logo.png
END:VEVENT
BEGIN:VEVENT
DTSTART;TZID=America/New_York:20200512T140000
DTEND;TZID=America/New_York:20200512T150000
DTSTAMP:20260425T074907
CREATED:20200421T223116Z
LAST-MODIFIED:20200421T223727Z
UID:909-1589292000-1589295600@www.aiawinstonsalem.org
SUMMARY:Simulated Standing Seam Metal Roof Systems
DESCRIPTION:*1 LU/HSW/AIA*\nPresented by: Tom Urich \nThe look of standing seam metal roofs has been admired for centuries. Metal roofing systems\, however\, have always had their challenges with water infiltration being at the top. Now\, customers no longer have to choose water-tightness over aesthetics with thermoplastic simulated standing seam metal roof systems. \nLearning Objectives \n\nThe history of standing seam metal roofs and their pros and cons as a roof system\nSingle-ply thermoplastic roof system benefits and their use as an aesthetic element to a building\nA cost comparison between metal and single-ply systems on different types of roof designs\nSimulated metal roof system components and what to look for when choosing the right system
URL:https://www.aiawinstonsalem.org/event/simulated-standing-seam-metal-roof-systems/
CATEGORIES:Webinar
ATTACH;FMTTYPE=image/png:https://www.aiawinstonsalem.org/wp-content/uploads/2020/01/sika-flooring-logo.png
END:VEVENT
BEGIN:VEVENT
DTSTART;TZID=America/New_York:20200514T110000
DTEND;TZID=America/New_York:20200514T120000
DTSTAMP:20260425T074907
CREATED:20200427T123646Z
LAST-MODIFIED:20200427T123646Z
UID:929-1589454000-1589457600@www.aiawinstonsalem.org
SUMMARY:Durability Solutions and Inspection of Steel Poles
DESCRIPTION:Steel Utility Pole Coalition Webinar Series:\nDurability Solutions and Inspection of Steel Poles\nPresented by: \nDr. Thomas Langill\, American Galvanizing Association \nGino Sincovich & Taylor Lewis\, Sherwin-Williams Protective Coatings
URL:https://www.aiawinstonsalem.org/event/durability-solutions-and-inspection-of-steel-poles/
CATEGORIES:Webinar
ATTACH;FMTTYPE=image/jpeg:https://www.aiawinstonsalem.org/wp-content/uploads/2020/04/american-galvanizers-association-logo.jpg
END:VEVENT
BEGIN:VEVENT
DTSTART;TZID=America/New_York:20200519T110000
DTEND;TZID=America/New_York:20200519T120000
DTSTAMP:20260425T074907
CREATED:20200504T222152Z
LAST-MODIFIED:20200504T222152Z
UID:947-1589886000-1589889600@www.aiawinstonsalem.org
SUMMARY:Understanding Structural Masonry
DESCRIPTION:SCMA Concrete Masonry Academy\n*1 HSW*\nFeatured Speaker: Steve Sunderman
URL:https://www.aiawinstonsalem.org/event/understanding-structural-masonry/
CATEGORIES:Webinar
ATTACH;FMTTYPE=image/png:https://www.aiawinstonsalem.org/wp-content/uploads/2020/05/Gray_SCMA-Logo.png
END:VEVENT
BEGIN:VEVENT
DTSTART;TZID=America/New_York:20200519T150000
DTEND;TZID=America/New_York:20200519T160000
DTSTAMP:20260425T074907
CREATED:20200427T131216Z
LAST-MODIFIED:20200427T131216Z
UID:937-1589900400-1589904000@www.aiawinstonsalem.org
SUMMARY:AIAU: Acoustics in Open-to-Structure Environments
DESCRIPTION:*1 LU*\nLIVE WEBINAR COURSE \nAs more and more commercial interiors\, from offices to schools\, veer toward open concepts and exposed structures\, the spaces become susceptible to noise. And for occupants\, excessive noise can lead to increased stress\, lower productivity\, decreased focus\, and poor communication. This session will help architects understand the challenge by exploring how sound is generated\, transmitted\, and reverberates. Attendees will learn a simpler approach to sabins\, how to calculate absorption\, and how to apply that knowledge to designing ceiling systems that hit the sweet spot for noise reduction. \nLearning Objectives:\n\nAddress acoustical design challenges in open-to-structure spaces.\nReview fundamentals of sound and define key acoustical terms.\nExplain and compare various measures of sound absorption.\nDefine reverberation time as a key room acoustic design parameter.\nExamine acoustical treatments best suited for open to structure spaces and review sample reverberation time calculations.
URL:https://www.aiawinstonsalem.org/event/aiau-acoustics-in-open-to-structure-environments/
CATEGORIES:AIAU,Webinar
ATTACH;FMTTYPE=image/jpeg:https://www.aiawinstonsalem.org/wp-content/uploads/2019/01/Members_AIAU.jpg
END:VEVENT
BEGIN:VEVENT
DTSTART;TZID=America/New_York:20200521T110000
DTEND;TZID=America/New_York:20200521T120000
DTSTAMP:20260425T074907
CREATED:20200427T124011Z
LAST-MODIFIED:20200427T124011Z
UID:931-1590058800-1590062400@www.aiawinstonsalem.org
SUMMARY:Steel Pole Case Studies
DESCRIPTION:Steel Utility Pole Coalition Webinar Series:\nSteel Pole Case Studies: What has Worked for Other Users\nPresented by: \nJeff Suda\, Steel Utility Pole Coalition
URL:https://www.aiawinstonsalem.org/event/steel-pole-case-studies/
ATTACH;FMTTYPE=image/jpeg:https://www.aiawinstonsalem.org/wp-content/uploads/2020/04/american-galvanizers-association-logo.jpg
END:VEVENT
BEGIN:VEVENT
DTSTART;TZID=America/New_York:20200521T130000
DTEND;TZID=America/New_York:20200521T140000
DTSTAMP:20260425T074907
CREATED:20200504T223628Z
LAST-MODIFIED:20200504T223628Z
UID:951-1590066000-1590069600@www.aiawinstonsalem.org
SUMMARY:The AIA's New Sustainable Consultant Scope of Services and Revised Guide
DESCRIPTION:*1 HSW*\nHosted by: AIA Contract Documents\nPresented by: Colleen Telling & Tara Myers\n\nOwners are realizing the value of incorporating sustainable design and materials into their facilities has on the environment\, building efficiency\, and occupant health. Many owners are now shifting traditional sustainability coordination efforts from architects of record to consultants who specialize in sustainability and may or may not be architects.\n\n\n\nAttendees will:\n\n\nBecome familiar with the AIA’s new C204™️-2020 Scope of Services for Consultants providing Sustainable Project Services.\nExamine how C204 relates to the Sustainable Projects Exhibit E204™️-2017 and C103™️–2015\, Owner/Consultant without a Predefined Scope of Consultant’s Services.\nLearn about the responsibilities of the sustainable projects consultant\, supplemental services\, and the flow down of sustainability requirements to other parties.\nExplore the updates made to the Sustainable Projects Guide\, D503™️-2020\, including a discussion of environmental product ratings and certification systems.
URL:https://www.aiawinstonsalem.org/event/the-aias-new-sustainable-consultant-scope-of-services-and-revised-guide/
CATEGORIES:AIA National,Webinar
ATTACH;FMTTYPE=image/jpeg:https://www.aiawinstonsalem.org/wp-content/uploads/2019/01/Members_AIAContractDocs.jpg
END:VEVENT
BEGIN:VEVENT
DTSTART;TZID=America/New_York:20200526T110000
DTEND;TZID=America/New_York:20200526T120000
DTSTAMP:20260425T074907
CREATED:20200504T222636Z
LAST-MODIFIED:20200504T222636Z
UID:949-1590490800-1590494400@www.aiawinstonsalem.org
SUMMARY:Through-Wall Flashing compatibility\, Sustainability\, and Performance
DESCRIPTION:SCMA Concrete Masonry Academy\n*1 HSW/GBCI LEED CE*\nFeatured Speaker: George Arnold
URL:https://www.aiawinstonsalem.org/event/through-wall-flashing-compatibility-sustainability-and-performance/
CATEGORIES:Webinar
ATTACH;FMTTYPE=image/png:https://www.aiawinstonsalem.org/wp-content/uploads/2020/05/Gray_SCMA-Logo.png
END:VEVENT
BEGIN:VEVENT
DTSTART;TZID=America/New_York:20200526T120000
DTEND;TZID=America/New_York:20200526T130000
DTSTAMP:20260425T074907
CREATED:20200113T215615Z
LAST-MODIFIED:20200114T204221Z
UID:848-1590494400-1590498000@www.aiawinstonsalem.org
SUMMARY:AIAWS | Lunch & Learn | CaraGreen
DESCRIPTION:  \nBiophilic Design\n** Earn 1 HSW/LEED **\nLearn about the latest trend in interior design: Biophilic Design\, which is the incorporation of natural elements using design techniques to improve the environment\, employee well-being and productivity. This presentation is more than just theory\, it offers case studies and data that back up this type of design and shows how retail\, commercial\, school\, health and hospital buildings and employees can benefit substantially by incorporating the principles of biophilic design. From water features\, daylighting\, acoustic treatments\, sounds and natural imagery to analogs of nature and elevated visual planes\, the techniques and materials to invoke them are available for the next generation of design. \nRSVP to President@AIAWinstonSalem.org to attend. If you are not a member\, cost of attendance is $15. Please bring exact change.
URL:https://www.aiawinstonsalem.org/event/aiaws-lunch-learn-caragreen/
LOCATION:Footnote\, 634 W 4th St\, Suite 120\, Winston-Salem\, NC\, 27101\, United States
CATEGORIES:AIA Winston-Salem,Lunch & Learn
ATTACH;FMTTYPE=image/gif:https://www.aiawinstonsalem.org/wp-content/uploads/2020/01/CaraGreen-logo.gif
ORGANIZER;CN="AIA Winston-Salem":MAILTO:president@aiawinstonsalem.org
END:VEVENT
BEGIN:VEVENT
DTSTART;TZID=America/New_York:20200528T110000
DTEND;TZID=America/New_York:20200528T120000
DTSTAMP:20260425T074907
CREATED:20200427T124234Z
LAST-MODIFIED:20200427T124234Z
UID:933-1590663600-1590667200@www.aiawinstonsalem.org
SUMMARY:Steel Pole Q&A with a Panel of Experts
DESCRIPTION:Steel Utility Pole Coalition Webinar Series:\nSteel Pole Q&A with a Panel of Experts\nPresented by: \nJeff Suda\, Steel Utility Pole Coalition
URL:https://www.aiawinstonsalem.org/event/steel-pole-qa-with-a-panel-of-experts/
ATTACH;FMTTYPE=image/jpeg:https://www.aiawinstonsalem.org/wp-content/uploads/2020/04/american-galvanizers-association-logo.jpg
END:VEVENT
BEGIN:VEVENT
DTSTART;TZID=America/New_York:20200528T130000
DTEND;TZID=America/New_York:20200528T140000
DTSTAMP:20260425T074907
CREATED:20200515T194918Z
LAST-MODIFIED:20200515T194918Z
UID:962-1590670800-1590674400@www.aiawinstonsalem.org
SUMMARY:Resinous Floor and Wall Surfaces for Educational Facilities
DESCRIPTION:*1 LU*\nGiven the varied use of educational facility spaces – from classrooms to kitchens to gymnasiums – the selection of proper floor and wall surfaces is a complex decision involving many environmental considerations. The right system protects your investment\, the wrong system could result in costly repairs\, damage to the building and its contents\, possibly an early replacement\, regulatory citation or disruption to students and faculty. During the presentation\, the presenter will discuss the following learning objectives to get a better understanding of resinous floor and wall surfaces for educational facilities. \n  \nRegister for the webinar here: https://www2.na-sika.com/l/227082/2020-04-29/7csb2
URL:https://www.aiawinstonsalem.org/event/resinous-floor-and-wall-surfaces-for-educational-facilities/
CATEGORIES:Webinar
ATTACH;FMTTYPE=image/png:https://www.aiawinstonsalem.org/wp-content/uploads/2020/01/sika-flooring-logo.png
END:VEVENT
BEGIN:VEVENT
DTSTART;VALUE=DATE:20200530
DTEND;VALUE=DATE:20200601
DTSTAMP:20260425T074907
CREATED:20200421T222154Z
LAST-MODIFIED:20200421T222154Z
UID:899-1590796800-1590969599@www.aiawinstonsalem.org
SUMMARY:Structural Technology for Practicing & Intern Architects
DESCRIPTION:*20 LU & HSW Credits*\nPresented by: Dr. Medhi Setareh \nSponsored by: Virginia Tech’s College of Architecture and Urban Studies \nVirtual Two Day Event: Saturday\, May 30\, 8:00 AM – 7:00 PM; Sunday\, May 31\, 8:00 AM – 5:00 PM \nThis course provides an overview of the fundamentals of the structural technology topics that every architect should be aware of. It also helps intern architects prepare for the structural portions of the Architect Registration Examination (ARE5.0) offered by the National Council of Architectural Registration Boards (NCARB). This course reviews the necessary knowledge on structural theory and behavior of different building components in steel\, concrete\, and wood\, and structural framing layout. The class meets on Saturday May 30 and Sunday May 31\, 2020. \nWhat will be covered:  \n\nStructural Theory\nSteel Structures\nConcrete Structures\nWood Structures\nLong-Span Systems\nStructural Framing Layout\n\nWhat’s Included: \n\na Copy of STRUCTURAL SYSTEMS Second Edition book\n20 LU and HSW credits approved by the AIA\nA complete set of information on the theoretical and practical aspects of building structures\nTerms used by structural engineers to improve communication between architect and structural engineer.\n\nHow to Register: \nThe fee for the seminars includes course materials\, 20 hours of instruction\, a copy of the STRUCTURAL SYSTEMS – Second Edition (2017) [$89.00 on Amazon.com]. All participants will receive a certificate of completion upon request. This seminar is eligible for a total of 20 Learning Unit (LU) hours and qualifies for 20 hours of Health\, Safety\, and Welfare (HSW). To register\, complete the attached form and make payment by Friday\, May 22\, 2020. To benefit the early registration discount\, registration must be completed by the end of May 15\, 2020. No Refunds after registration. However\, substitutions are accepted at any time. In case of cancellation of the program\, registrants will be fully-refunded
URL:https://www.aiawinstonsalem.org/event/structural-technology-for-practicing-intern-architects/
CATEGORIES:Webinar
ATTACH;FMTTYPE=image/gif:https://www.aiawinstonsalem.org/wp-content/uploads/2020/04/virginiatech.gif
END:VEVENT
END:VCALENDAR