BEGIN:VCALENDAR
VERSION:2.0
PRODID:-//AIA Winston-Salem - ECPv6.3.1//NONSGML v1.0//EN
CALSCALE:GREGORIAN
METHOD:PUBLISH
X-WR-CALNAME:AIA Winston-Salem
X-ORIGINAL-URL:https://www.aiawinstonsalem.org
X-WR-CALDESC:Events for AIA Winston-Salem
REFRESH-INTERVAL;VALUE=DURATION:PT1H
X-Robots-Tag:noindex
X-PUBLISHED-TTL:PT1H
BEGIN:VTIMEZONE
TZID:America/New_York
BEGIN:DAYLIGHT
TZOFFSETFROM:-0500
TZOFFSETTO:-0400
TZNAME:EDT
DTSTART:20210314T070000
END:DAYLIGHT
BEGIN:STANDARD
TZOFFSETFROM:-0400
TZOFFSETTO:-0500
TZNAME:EST
DTSTART:20211107T060000
END:STANDARD
END:VTIMEZONE
BEGIN:VEVENT
DTSTART;TZID=America/New_York:20210316T120000
DTEND;TZID=America/New_York:20210316T130000
DTSTAMP:20260424T150324
CREATED:20210303T192806Z
LAST-MODIFIED:20210312T144031Z
UID:1196-1615896000-1615899600@www.aiawinstonsalem.org
SUMMARY:AIAWS | March Section Lunch
DESCRIPTION:“There and Back Again: An IDEXlab” Tale\n1 LU (HSW PENDING)\nThis presentation reviews the structural changes – and changing nature – of the Integrative Design Experience Laboratory at Appalachian State University from the perspective of a 2019 pre-pandemic → 2020 pandemic → 2021 post-pandemic thruline. Emphasis is placed on lessons learned in our practice of design to build pedagogy and the in-practice implementation of those lessons in real time. Projects presented include: (2019) US Department of Energy Solar Decathlon Design Challenge Suburban Single Family and Attached Housing submissions; (2020) COVID-19 responsive designs; and (2021) the Yancey County Farmers’ Market in Burnsville\, NC. \nThe panel: \nChelsea Helms\, IIDA\nAssistant Professor\, Department of Applied Design\nInterim Program Coordinator\, Interior Design \nD. Jason Miller\, AIA\nAssociate Professor\, Department of Sustainable Technology and the Built Environment\nAssociate Dean\, College of Fine and Applied Arts \nFoster Ramsey\nLecturer\, Department of Sustainable Technology and the Built Environment \nJim Rogers\nLecturer\, Department of Sustainable Technology and the Built Environment
URL:https://www.aiawinstonsalem.org/event/aiaws-march-section-lunch/
CATEGORIES:AIA Winston-Salem,Speaker Lunch
ATTACH;FMTTYPE=image/png:https://www.aiawinstonsalem.org/wp-content/uploads/2019/06/Speaker-Lunch-Graphic.png
ORGANIZER;CN="AIA Winston-Salem":MAILTO:president@aiawinstonsalem.org
END:VEVENT
BEGIN:VEVENT
DTSTART;TZID=America/New_York:20210325T120000
DTEND;TZID=America/New_York:20210325T133000
DTSTAMP:20260424T150324
CREATED:20210302T150503Z
LAST-MODIFIED:20210302T150503Z
UID:1185-1616673600-1616679000@www.aiawinstonsalem.org
SUMMARY:AOL: Getting it Right for your Commercial Facade
DESCRIPTION:Guardian Fabrication: Getting it Right for your Commercial Façade with Guardian Glass\n1.5 HSW Hours\n\nThis Guardian Glass CEU is intended to help architect appreciate the value of fabrication as he stepped in the total glassmaking process – as well as the fabrication choices and consideration they should know for their projects.\n\n\n\nFrom the beginning of the glass selection process\, architects face many options. From the glass substrate and coatings to fabrication\, there are choices for almost every imaginable application. Fabrication can play an important role in aesthetics and performance – and helping create a safe environment for occupants.\nUpon completion\, participants will be able to understand the vital role of fabrication in glass for commercial facades\, know how for fabrication factors into today’s glass trends\, be able to identify ways fabrication can help achieve project goals for energy performance\, safety and security\, and design vision\, as well as be able to navigate fabrication choices and requirements.
URL:https://www.aiawinstonsalem.org/event/aol-getting-it-right-for-your-commercial-facade/
CATEGORIES:Aspire Online Learning,Webinar
ATTACH;FMTTYPE=image/png:https://www.aiawinstonsalem.org/wp-content/uploads/2021/02/AOL.png
END:VEVENT
BEGIN:VEVENT
DTSTART;TZID=America/New_York:20210330T120000
DTEND;TZID=America/New_York:20210330T130000
DTSTAMP:20260424T150324
CREATED:20210303T193706Z
LAST-MODIFIED:20210312T144547Z
UID:1198-1617105600-1617109200@www.aiawinstonsalem.org
SUMMARY:AIAWS | March Lunch & Learn
DESCRIPTION:Rolling Closure Products\n1 HSW\nParticipants will gain a general understanding of available rolling closure product lines so that the most applicable products can be specified to meet end user needs.
URL:https://www.aiawinstonsalem.org/event/aiaws-march-lunch-learn/
CATEGORIES:AIA Winston-Salem,Lunch & Learn
ATTACH;FMTTYPE=image/jpeg:https://www.aiawinstonsalem.org/wp-content/uploads/2020/06/Lunch-and-Learn-02.jpg
ORGANIZER;CN="AIA Winston-Salem":MAILTO:president@aiawinstonsalem.org
END:VEVENT
END:VCALENDAR