BEGIN:VCALENDAR
VERSION:2.0
PRODID:-//AIA Winston-Salem - ECPv6.3.1//NONSGML v1.0//EN
CALSCALE:GREGORIAN
METHOD:PUBLISH
X-WR-CALNAME:AIA Winston-Salem
X-ORIGINAL-URL:https://www.aiawinstonsalem.org
X-WR-CALDESC:Events for AIA Winston-Salem
REFRESH-INTERVAL;VALUE=DURATION:PT1H
X-Robots-Tag:noindex
X-PUBLISHED-TTL:PT1H
BEGIN:VTIMEZONE
TZID:America/New_York
BEGIN:DAYLIGHT
TZOFFSETFROM:-0500
TZOFFSETTO:-0400
TZNAME:EDT
DTSTART:20230312T070000
END:DAYLIGHT
BEGIN:STANDARD
TZOFFSETFROM:-0400
TZOFFSETTO:-0500
TZNAME:EST
DTSTART:20231105T060000
END:STANDARD
END:VTIMEZONE
BEGIN:VEVENT
DTSTART;TZID=America/New_York:20230321T120000
DTEND;TZID=America/New_York:20230321T130000
DTSTAMP:20260423T051120
CREATED:20230131T010858Z
LAST-MODIFIED:20230131T010858Z
UID:1821-1679400000-1679403600@www.aiawinstonsalem.org
SUMMARY:March Section Lunch
DESCRIPTION:TBD
URL:https://www.aiawinstonsalem.org/event/march-section-lunch/
CATEGORIES:AIA Winston-Salem,Speaker Lunch
ATTACH;FMTTYPE=image/jpeg:https://www.aiawinstonsalem.org/wp-content/uploads/2021/06/AIA-Winston-Salem_RED-BLACK_PMS.jpg
ORGANIZER;CN="AIA Winston-Salem":MAILTO:president@aiawinstonsalem.org
END:VEVENT
BEGIN:VEVENT
DTSTART;VALUE=DATE:20230322
DTEND;VALUE=DATE:20230323
DTSTAMP:20260423T051120
CREATED:20230131T153006Z
LAST-MODIFIED:20230131T153529Z
UID:1870-1679443200-1679529599@www.aiawinstonsalem.org
SUMMARY:ACTIVATE Program Notification
DESCRIPTION:Each year\, up to $40\,000 is granted to support programs that encourage this engagement. Anyone can apply for a grant\, but the submissions will be reviewed by the leadership of one of our seven local AIA Sections.\n2023 TIMELINE\nJan 11 – Call for Submissions Opens \nFeb 19 – All Submissions due through online form \nMarch 22 – Notification of Program approval \n  \nWhen you are ready to submit\, use the online Call for Submissions form here.\nFeel free to download the Call for Submissions form TEMPLATE here\, or at the link at the top of the page.
URL:https://www.aiawinstonsalem.org/event/activate-program-notification/
ATTACH;FMTTYPE=image/png:https://www.aiawinstonsalem.org/wp-content/uploads/2023/01/activate-logo.png
ORGANIZER;CN="AIA North Carolina":MAILTO:info@aianc.org
END:VEVENT
BEGIN:VEVENT
DTSTART;TZID=America/New_York:20230328T120000
DTEND;TZID=America/New_York:20230328T130000
DTSTAMP:20260423T051120
CREATED:20230131T011634Z
LAST-MODIFIED:20230131T012233Z
UID:1823-1680004800-1680008400@www.aiawinstonsalem.org
SUMMARY:March Lunch and Learn
DESCRIPTION:TBD
URL:https://www.aiawinstonsalem.org/event/march-lunch-and-learn/
CATEGORIES:AIA Winston-Salem
ATTACH;FMTTYPE=image/jpeg:https://www.aiawinstonsalem.org/wp-content/uploads/2020/06/Lunch-and-Learn-02.jpg
ORGANIZER;CN="AIA Winston-Salem":MAILTO:president@aiawinstonsalem.org
END:VEVENT
END:VCALENDAR