BEGIN:VCALENDAR
VERSION:2.0
PRODID:-//AIA Winston-Salem - ECPv6.3.1//NONSGML v1.0//EN
CALSCALE:GREGORIAN
METHOD:PUBLISH
X-ORIGINAL-URL:https://www.aiawinstonsalem.org
X-WR-CALDESC:Events for AIA Winston-Salem
REFRESH-INTERVAL;VALUE=DURATION:PT1H
X-Robots-Tag:noindex
X-PUBLISHED-TTL:PT1H
BEGIN:VTIMEZONE
TZID:America/New_York
BEGIN:DAYLIGHT
TZOFFSETFROM:-0500
TZOFFSETTO:-0400
TZNAME:EDT
DTSTART:20190310T070000
END:DAYLIGHT
BEGIN:STANDARD
TZOFFSETFROM:-0400
TZOFFSETTO:-0500
TZNAME:EST
DTSTART:20191103T060000
END:STANDARD
END:VTIMEZONE
BEGIN:VEVENT
DTSTART;TZID=America/New_York:20190911T093000
DTEND;TZID=America/New_York:20190911T163000
DTSTAMP:20260425T235950
CREATED:20190906T172609Z
LAST-MODIFIED:20190906T172609Z
UID:599-1568194200-1568219400@www.aiawinstonsalem.org
SUMMARY:AIA National | Post Disaster Safety Assessment Program Training
DESCRIPTION:Overview\nIntended for licensed architects\, engineers\, or certified building inspectors; this course certifies attendees as Building Evaluators in the nationally recognized Safety Assessment Program (SAP). The program is managed by Cal OES with cooperation from professional organizations\, including the AIA. It utilizes volunteers and mutual aid resources to provide professional engineers\, architects and certified building inspectors to assist local governments in safety evaluation of their built environment in an aftermath of a disaster. SAP is the training standard of the AIA Disaster Assistance Program\, which provides leadership\, advocacy\, and training to architects who are interested in volunteering their professional skills in times of crisis. This workshop will teach participants to conduct rapid damage assessments of structures affected by earthquakes\, wind\, and water. Upon completion of this course\, participants will be able to consistently and safely assess structures for habitability and will receive a nationally recognized Cal OES registration ID card from the state of California. \n  \nAgenda\n\nAIA Disaster Assistance overview\nSafety Assessment Program overview\nSafety Assessment process and procedures\nBuilding evaluation\nSafety assessment exercise\nLifeline systems and facilities\nNon-earthquake hazards\nField safety\nHow to volunteer with the AIA\n\n  \nSpeakers\nJ. Scott Eddy\, AIA \n  \nRead more on this topic and from this speaker!\n\n“When Hurricane Katrina made landfall in August of 2005\, it quickly became a force unparalleled in the history of modern disasters. Roughly 850\,000 homes were destroyed or damaged\, leaving countless residents with nowhere to go.\nAt the time\, J. Scott Eddy\, AIA . . .”  Read more here!
URL:https://www.aiawinstonsalem.org/event/aia-national-post-disaster-safety-assessment-program-training/
LOCATION:Hilton Baton Rouge Capital Center\, 201 Lafayette Street\, Baton Rouge\, LA\, 70801\, United States
CATEGORIES:AIA National,Educational Event
ATTACH;FMTTYPE=image/png:https://www.aiawinstonsalem.org/wp-content/uploads/2019/04/red-icon.png
END:VEVENT
END:VCALENDAR