BEGIN:VCALENDAR
VERSION:2.0
PRODID:-//AIA Winston-Salem - ECPv6.3.1//NONSGML v1.0//EN
CALSCALE:GREGORIAN
METHOD:PUBLISH
X-ORIGINAL-URL:https://www.aiawinstonsalem.org
X-WR-CALDESC:Events for AIA Winston-Salem
REFRESH-INTERVAL;VALUE=DURATION:PT1H
X-Robots-Tag:noindex
X-PUBLISHED-TTL:PT1H
BEGIN:VTIMEZONE
TZID:America/New_York
BEGIN:DAYLIGHT
TZOFFSETFROM:-0500
TZOFFSETTO:-0400
TZNAME:EDT
DTSTART:20190310T070000
END:DAYLIGHT
BEGIN:STANDARD
TZOFFSETFROM:-0400
TZOFFSETTO:-0500
TZNAME:EST
DTSTART:20191103T060000
END:STANDARD
END:VTIMEZONE
BEGIN:VEVENT
DTSTART;TZID=America/New_York:20191018T100000
DTEND;TZID=America/New_York:20191018T160000
DTSTAMP:20260425T222359
CREATED:20190910T125952Z
LAST-MODIFIED:20190910T130108Z
UID:639-1571392800-1571414400@www.aiawinstonsalem.org
SUMMARY:AIA National | AIA Contract Documents workshop
DESCRIPTION:Overview\nAIA Contract Documents\nAs an architect\, owner\, or contractor\, using comprehensive contract documents is the most important thing you can do to protect your project\, minimize risk and avoid costly litigation. However\, developing contract documents can be cumbersome\, confusing and time-consuming. Having the right tools and knowledge to develop iron-clad contracts can make the process more efficient and help you better protect your assets. Don’t miss this opportunity to attend an interactive session on the latest version of AIA Contract Documents and products! \nDuring this course\, you will examine various families of AIA documents; get the scoop on the newly released 2017 revisions to the A201 family\, including revisions to A201\, owner-architect and owner-contractor agreements;and find out how the new Sustainable Projects Exhibit can positively impact the health and safety of a building’s occupants. \nYou will also participate in live demonstrations of the AIA Contract Documents online service to discover the key features that will save you time and money\, and keep your projects organized. Discover features that make drafting\, reviewing\, and sharing contracts faster and simpler than ever before. Find out how AIA Contract Documents products help you complete forms\, such as change order and payment applications\, by importing data and performing calculations for you. Arm yourself with this knowledge in order to administer contracts in a more efficient and cost-effective way\, regardless of the size of your firm or project. \nLearning Objectives\nDiscuss the importance of using contract documents\, the AIA contract document families\, and newly released 2017 revisions to the A201 family of documents\, including the new Sustainable Projects Exhibit. Understand the contractual relationships between the various parties when utilizing different types of project delivery methods and how contracts define the responsibility\, authority\, and expectations of each.Explore AIA Contract Documents online service in order to learn the primary features that allow you to draft\, customize\, review\, and share contracts quickly and easily. Learn how to complete some of the AIA’s most popular forms to execute Change Orders and Payment Applications. \nIncludes:\nSmall group work\, continental breakfast and lunch\, and a tour of the Octagon House! Attendees are asked to bring their laptop if possible. \n 
URL:https://www.aiawinstonsalem.org/event/aia-national-aia-contract-documents-workshop/
LOCATION:AIA National\, 1735 New York Ave NC\, Washington\, DC\, 20006\, United States
CATEGORIES:AIA Contract Documents,AIA National,Educational Event
ATTACH;FMTTYPE=image/jpeg:https://www.aiawinstonsalem.org/wp-content/uploads/2019/01/Members_AIAContractDocs.jpg
END:VEVENT
END:VCALENDAR