BEGIN:VCALENDAR
VERSION:2.0
PRODID:-//AIA Winston-Salem - ECPv6.3.1//NONSGML v1.0//EN
CALSCALE:GREGORIAN
METHOD:PUBLISH
X-ORIGINAL-URL:https://www.aiawinstonsalem.org
X-WR-CALDESC:Events for AIA Winston-Salem
REFRESH-INTERVAL;VALUE=DURATION:PT1H
X-Robots-Tag:noindex
X-PUBLISHED-TTL:PT1H
BEGIN:VTIMEZONE
TZID:America/New_York
BEGIN:DAYLIGHT
TZOFFSETFROM:-0500
TZOFFSETTO:-0400
TZNAME:EDT
DTSTART:20200308T070000
END:DAYLIGHT
BEGIN:STANDARD
TZOFFSETFROM:-0400
TZOFFSETTO:-0500
TZNAME:EST
DTSTART:20201101T060000
END:STANDARD
END:VTIMEZONE
BEGIN:VEVENT
DTSTART;TZID=America/New_York:20200225T120000
DTEND;TZID=America/New_York:20200225T130000
DTSTAMP:20260425T130253
CREATED:20200113T212606Z
LAST-MODIFIED:20200114T203019Z
UID:838-1582632000-1582635600@www.aiawinstonsalem.org
SUMMARY:AIAWS | Lunch & Learn | Oldcastle APG
DESCRIPTION:Modeling Masonry with BIM\n**Earn 1 HSW/LU**\nBIM is expanding quickly within the construction industry worldwide. However\, the masonry industry has not historically been well represented. Therefore\, there is a need to develop BIM tools for masonry to keep up with the growing requirements for 3D modeling. With that intent\, an Initiative was formed in 2012 specifically to advance BIM for masonry. Recent advancements have made it possible for Revit users design more effectively with masonry. \nRSVP to President@AIAWinstonSalem.org to attend. If you are not a member\, cost of attendance is $15. Please bring exact change.
URL:https://www.aiawinstonsalem.org/event/aiaws-lunch-learn-oldcastle-apg/
LOCATION:Footnote\, 634 W 4th St\, Suite 120\, Winston-Salem\, NC\, 27101\, United States
CATEGORIES:AIA Winston-Salem,Lunch & Learn
ATTACH;FMTTYPE=image/jpeg:https://www.aiawinstonsalem.org/wp-content/uploads/2019/02/image001.jpg
ORGANIZER;CN="AIA Winston-Salem":MAILTO:president@aiawinstonsalem.org
END:VEVENT
END:VCALENDAR