BEGIN:VCALENDAR
VERSION:2.0
PRODID:-//AIA Winston-Salem - ECPv6.3.1//NONSGML v1.0//EN
CALSCALE:GREGORIAN
METHOD:PUBLISH
X-WR-CALNAME:AIA Winston-Salem
X-ORIGINAL-URL:https://www.aiawinstonsalem.org
X-WR-CALDESC:Events for AIA Winston-Salem
REFRESH-INTERVAL;VALUE=DURATION:PT1H
X-Robots-Tag:noindex
X-PUBLISHED-TTL:PT1H
BEGIN:VTIMEZONE
TZID:America/New_York
BEGIN:DAYLIGHT
TZOFFSETFROM:-0500
TZOFFSETTO:-0400
TZNAME:EDT
DTSTART:20200308T070000
END:DAYLIGHT
BEGIN:STANDARD
TZOFFSETFROM:-0400
TZOFFSETTO:-0500
TZNAME:EST
DTSTART:20201101T060000
END:STANDARD
END:VTIMEZONE
BEGIN:VEVENT
DTSTART;TZID=America/New_York:20200422T120000
DTEND;TZID=America/New_York:20200422T140000
DTSTAMP:20260425T112244
CREATED:20200421T211228Z
LAST-MODIFIED:20200421T211228Z
UID:870-1587556800-1587564000@www.aiawinstonsalem.org
SUMMARY:The Climate Imperative - AIA's Urgent Move Towards Environmental Stewardship
DESCRIPTION:Unequaled in AIA’s 162 year history\, The Big Move for Environmental Sustainability resolution passed at the 2019 annual business meeting represents a “dramatic and unprecedented change in focus.” In conjunction with what the AIA has informally nicknamed the Big Move Toward Environmental Stewardship\, the resolution marks a bold step forward in positioning the architectural profession as key leaders for climate action. It outlines three key areas: declare an urgent climate imperative for carbon reduction; transform the day-to-day practice of architects to achieve a zero-carbon\, equitable\, resilient and healthy built environment; and leverage support of peers\, clients\, policy makers\, and the public at large. \nWhile sustainability is a complex subject\, even for those whose expertise brings them neck deep in it\, AIANC has prepared a program which provides the context and describes the transformation that is necessary for architects to take a leadership role in addressing the Climate Imperative. The Climate Action Plan reiterates our commitment to designing a sustainable\, healthy and equitable world. \nWebinar will be presented by Richard Alsop\, Jr. AIA\, AIA North Carolina Director of Advocacy. \nLearning Objectives: \n\nOverview of the scope of the Climate Crisis\, the impact already evident and the risks it poses in the immediate future to all of our living systems including the way we design and construct buildings to combat further impact on our environment.\nReview of the recently released US Federal Government Climate Report called “The National Climate Assessment of Impacts\, Risks\, and Adaptation in the United States” and how it parallels the AIA program and how it affects current building codes and energy codes across North Carolina and the United States.\nA detailed look at AIA’s program on “The Big Move Toward Environmental Sustainability” This includes a review of the Committee on the Environment’s (COTE) Framework for Design Excellence and tools for architects to use for their projects in support of the resolution on climate.\nReview of programs\, codes\, and tools to support architects as they adapt their professional practices to the ever-evolving challenges posed by Climate Change.
URL:https://www.aiawinstonsalem.org/event/the-climate-imperative-aias-urgent-move-towards-environmental-stewardship/
CATEGORIES:AIA North Carolina
ATTACH;FMTTYPE=image/png:https://www.aiawinstonsalem.org/wp-content/uploads/2019/04/red-icon.png
ORGANIZER;CN="AIA North Carolina":MAILTO:info@aianc.org
END:VEVENT
END:VCALENDAR