BEGIN:VCALENDAR
VERSION:2.0
PRODID:-//AIA Winston-Salem - ECPv6.3.1//NONSGML v1.0//EN
CALSCALE:GREGORIAN
METHOD:PUBLISH
X-ORIGINAL-URL:https://www.aiawinstonsalem.org
X-WR-CALDESC:Events for AIA Winston-Salem
REFRESH-INTERVAL;VALUE=DURATION:PT1H
X-Robots-Tag:noindex
X-PUBLISHED-TTL:PT1H
BEGIN:VTIMEZONE
TZID:America/New_York
BEGIN:DAYLIGHT
TZOFFSETFROM:-0500
TZOFFSETTO:-0400
TZNAME:EDT
DTSTART:20200308T070000
END:DAYLIGHT
BEGIN:STANDARD
TZOFFSETFROM:-0400
TZOFFSETTO:-0500
TZNAME:EST
DTSTART:20201101T060000
END:STANDARD
END:VTIMEZONE
BEGIN:VEVENT
DTSTART;TZID=America/New_York:20200602T120000
DTEND;TZID=America/New_York:20200602T130000
DTSTAMP:20260425T075325
CREATED:20200527T124321Z
LAST-MODIFIED:20200527T124321Z
UID:971-1591099200-1591102800@www.aiawinstonsalem.org
SUMMARY:Acoustics\, Technology\, and Lighting - The Impact of COVID-19
DESCRIPTION:*CE Credit Pending*\nRegistration is REQUIRED by June 2 at 10 AM: event website found in “Details” below.\nPresented by Steven J. Thorburn with Thorburn Associates\nThis session will review the impact COVID-19 will have on building design and systems as it relates to acoustics\, technology\, and lighting design. Acoustically\, the workplace will require redesigning. The current high-density hoteling of workers will not be accepted in the future due to social distancing. This will impact office acoustics as well as noise levels within restaurants. \nOver the last 3 months\, the A/E industry has found that most of us can work from a laptop and if we have a high-speed connection\, can work from home. We have been remotely doing that at client meetings and job sites for years. It is the actual production work that is more efficient on larger and multiple monitors that will create the challenge. \nHuddle rooms will be expanded in our designs – how do we make sure we can fit out these spaces for easy collaboration? \nThere will be increased requirements for hands-free gesturing at public touch screens and digital signage. \nFinally lighting – Can UV lighting help sanitize the environments we travel though. \nThis interactive session will address these questions and any others the participants bring up. \nLearning Objectives: \n\nParticipants will explain how designing a building for social distancing can impact speech privacy and speech intelligibility\nParticipants will describe why the finish materials that affect the buildup of sound within a space can reduce speech intelligibility\nParticipants will demonstrate best communications practices while participating in video calls and why the physical design and finishes of the room are so critical\nParticipants will identify the critical design elements of wall and floor/ceiling systems and technology components required for collaboration/huddle/zoom rooms\nParticipants will describe the types of UV light and their impact on pathogens and the human body
URL:https://www.aiawinstonsalem.org/event/acoustics-technology-and-lighting-the-impact-of-covid-19/
CATEGORIES:Webinar
ATTACH;FMTTYPE=image/jpeg:https://www.aiawinstonsalem.org/wp-content/uploads/2020/05/Thorburn-200.jpg
END:VEVENT
END:VCALENDAR