BEGIN:VCALENDAR
VERSION:2.0
PRODID:-//AIA Winston-Salem - ECPv6.3.1//NONSGML v1.0//EN
CALSCALE:GREGORIAN
METHOD:PUBLISH
X-WR-CALNAME:AIA Winston-Salem
X-ORIGINAL-URL:https://www.aiawinstonsalem.org
X-WR-CALDESC:Events for AIA Winston-Salem
REFRESH-INTERVAL;VALUE=DURATION:PT1H
X-Robots-Tag:noindex
X-PUBLISHED-TTL:PT1H
BEGIN:VTIMEZONE
TZID:America/New_York
BEGIN:DAYLIGHT
TZOFFSETFROM:-0500
TZOFFSETTO:-0400
TZNAME:EDT
DTSTART:20200308T070000
END:DAYLIGHT
BEGIN:STANDARD
TZOFFSETFROM:-0400
TZOFFSETTO:-0500
TZNAME:EST
DTSTART:20201101T060000
END:STANDARD
END:VTIMEZONE
BEGIN:VEVENT
DTSTART;TZID=America/New_York:20201214T120000
DTEND;TZID=America/New_York:20201214T130000
DTSTAMP:20260424T214247
CREATED:20201209T155115Z
LAST-MODIFIED:20201209T155115Z
UID:1081-1607947200-1607950800@www.aiawinstonsalem.org
SUMMARY:Surface Innovation - Cosentino Webinar
DESCRIPTION:  \nRedefining Boundaries of Interior and Exterior Spaces with Ultracompact Surfacing\n  \n  \n  \n  \nLast chance CEU credit! Space is limited – sign up today! \nRegister here: https://signin.aecdaily.com/register/QRY3725
URL:https://www.aiawinstonsalem.org/event/surface-innovation-cosentino-webinar/
CATEGORIES:Webinar
ATTACH;FMTTYPE=image/png:https://www.aiawinstonsalem.org/wp-content/uploads/2020/12/cosentino-logo.png
ORGANIZER;CN="AIA Winston-Salem":MAILTO:president@aiawinstonsalem.org
END:VEVENT
END:VCALENDAR