BEGIN:VCALENDAR
VERSION:2.0
PRODID:-//AIA Winston-Salem - ECPv6.3.1//NONSGML v1.0//EN
CALSCALE:GREGORIAN
METHOD:PUBLISH
X-ORIGINAL-URL:https://www.aiawinstonsalem.org
X-WR-CALDESC:Events for AIA Winston-Salem
REFRESH-INTERVAL;VALUE=DURATION:PT1H
X-Robots-Tag:noindex
X-PUBLISHED-TTL:PT1H
BEGIN:VTIMEZONE
TZID:America/New_York
BEGIN:DAYLIGHT
TZOFFSETFROM:-0500
TZOFFSETTO:-0400
TZNAME:EDT
DTSTART:20230312T070000
END:DAYLIGHT
BEGIN:STANDARD
TZOFFSETFROM:-0400
TZOFFSETTO:-0500
TZNAME:EST
DTSTART:20231105T060000
END:STANDARD
END:VTIMEZONE
BEGIN:VEVENT
DTSTART;TZID=America/New_York:20230228T120000
DTEND;TZID=America/New_York:20230228T130000
DTSTAMP:20260423T064655
CREATED:20230131T005639Z
LAST-MODIFIED:20230202T143154Z
UID:1816-1677585600-1677589200@www.aiawinstonsalem.org
SUMMARY:February Lunch & Learn
DESCRIPTION:Join us for an HSW-credited presentation from American Metal Craft! \n  \nExplore the differences between aluminum wet seal panels and rainscreen systems. Learn how to design more economical panels with as little waste as possible. Study types of fastening methods\, how current economic trends and tariffs have impacted metal manufacturing\, and ways to utilize post-fabrication painting to give your project that “wow” factor without breaking your budget. \nAfter attending this class you will: \n\nHave a better understanding of metal panel systems and components.\nBe able to explain how wet seal varies from rainscreen systems\, AAMA testing standards\, and the air/water infiltration requirements.\nHave a clear understanding of what gauge metal is right for your design.\nUnderstand how to design and plan for plate panel systems utilizing standard sheet lengths to minimize waste and lower costs\n\n  \nCredit: 1 HSW/LU \nNon-member price: $25 (please bring exact change)
URL:https://www.aiawinstonsalem.org/event/february-lunch-learn/
LOCATION:Art for Art’s Sake\, 630 N Liberty St\, Winston Salem\, NC\, 27101\, United States
CATEGORIES:AIA Winston-Salem,Lunch & Learn
ATTACH;FMTTYPE=image/png:https://www.aiawinstonsalem.org/wp-content/uploads/2023/01/AMC-LOGO.png
ORGANIZER;CN="AIA Winston-Salem":MAILTO:president@aiawinstonsalem.org
END:VEVENT
END:VCALENDAR