BEGIN:VCALENDAR
VERSION:2.0
PRODID:-//AIA Winston-Salem - ECPv6.3.1//NONSGML v1.0//EN
CALSCALE:GREGORIAN
METHOD:PUBLISH
X-WR-CALNAME:AIA Winston-Salem
X-ORIGINAL-URL:https://www.aiawinstonsalem.org
X-WR-CALDESC:Events for AIA Winston-Salem
REFRESH-INTERVAL;VALUE=DURATION:PT1H
X-Robots-Tag:noindex
X-PUBLISHED-TTL:PT1H
BEGIN:VTIMEZONE
TZID:America/New_York
BEGIN:DAYLIGHT
TZOFFSETFROM:-0500
TZOFFSETTO:-0400
TZNAME:EDT
DTSTART:20230312T070000
END:DAYLIGHT
BEGIN:STANDARD
TZOFFSETFROM:-0400
TZOFFSETTO:-0500
TZNAME:EST
DTSTART:20231105T060000
END:STANDARD
END:VTIMEZONE
BEGIN:VEVENT
DTSTART;VALUE=DATE:20230607
DTEND;VALUE=DATE:20230611
DTSTAMP:20260423T015308
CREATED:20230131T020857Z
LAST-MODIFIED:20230131T020857Z
UID:1858-1686096000-1686441599@www.aiawinstonsalem.org
SUMMARY:AIA Conference on Architecture
DESCRIPTION:A’23 in San Francisco!\nThe architecture and design event of the year is heading to the beautiful Bay Area June 7-10\, 2023. Save the date!
URL:https://www.aiawinstonsalem.org/event/aia-conference-on-architecture/
LOCATION:San Francisco\, CA\, San Francisco\, CA\, United States
CATEGORIES:AIA National,Conference
ATTACH;FMTTYPE=image/jpeg:https://www.aiawinstonsalem.org/wp-content/uploads/2023/01/A23.jpg
END:VEVENT
END:VCALENDAR