BEGIN:VCALENDAR
VERSION:2.0
PRODID:-//AIA Winston-Salem - ECPv6.3.1//NONSGML v1.0//EN
CALSCALE:GREGORIAN
METHOD:PUBLISH
X-ORIGINAL-URL:https://www.aiawinstonsalem.org
X-WR-CALDESC:Events for AIA Winston-Salem
REFRESH-INTERVAL;VALUE=DURATION:PT1H
X-Robots-Tag:noindex
X-PUBLISHED-TTL:PT1H
BEGIN:VTIMEZONE
TZID:America/New_York
BEGIN:DAYLIGHT
TZOFFSETFROM:-0500
TZOFFSETTO:-0400
TZNAME:EDT
DTSTART:20200308T070000
END:DAYLIGHT
BEGIN:STANDARD
TZOFFSETFROM:-0400
TZOFFSETTO:-0500
TZNAME:EST
DTSTART:20201101T060000
END:STANDARD
END:VTIMEZONE
BEGIN:VEVENT
DTSTART;TZID=America/New_York:20200512T110000
DTEND;TZID=America/New_York:20200512T120000
DTSTAMP:20260424T154022
CREATED:20200504T221750Z
LAST-MODIFIED:20200504T221750Z
UID:942-1589281200-1589284800@www.aiawinstonsalem.org
SUMMARY:Masonry iQ
DESCRIPTION:SCMA Concrete Masonry Academy\n*1 HSW*\nFeatured Speaker: Mike Riva
URL:https://www.aiawinstonsalem.org/event/masonry-iq/
LOCATION:NC
CATEGORIES:Webinar
ATTACH;FMTTYPE=image/png:https://www.aiawinstonsalem.org/wp-content/uploads/2020/05/Gray_SCMA-Logo.png
END:VEVENT
BEGIN:VEVENT
DTSTART;TZID=America/New_York:20200512T140000
DTEND;TZID=America/New_York:20200512T150000
DTSTAMP:20260424T154022
CREATED:20200421T223116Z
LAST-MODIFIED:20200421T223727Z
UID:909-1589292000-1589295600@www.aiawinstonsalem.org
SUMMARY:Simulated Standing Seam Metal Roof Systems
DESCRIPTION:*1 LU/HSW/AIA*\nPresented by: Tom Urich \nThe look of standing seam metal roofs has been admired for centuries. Metal roofing systems\, however\, have always had their challenges with water infiltration being at the top. Now\, customers no longer have to choose water-tightness over aesthetics with thermoplastic simulated standing seam metal roof systems. \nLearning Objectives \n\nThe history of standing seam metal roofs and their pros and cons as a roof system\nSingle-ply thermoplastic roof system benefits and their use as an aesthetic element to a building\nA cost comparison between metal and single-ply systems on different types of roof designs\nSimulated metal roof system components and what to look for when choosing the right system
URL:https://www.aiawinstonsalem.org/event/simulated-standing-seam-metal-roof-systems/
LOCATION:NC
CATEGORIES:Webinar
ATTACH;FMTTYPE=image/png:https://www.aiawinstonsalem.org/wp-content/uploads/2020/01/sika-flooring-logo.png
END:VEVENT
BEGIN:VEVENT
DTSTART;TZID=America/New_York:20200519T110000
DTEND;TZID=America/New_York:20200519T120000
DTSTAMP:20260424T154022
CREATED:20200504T222152Z
LAST-MODIFIED:20200504T222152Z
UID:947-1589886000-1589889600@www.aiawinstonsalem.org
SUMMARY:Understanding Structural Masonry
DESCRIPTION:SCMA Concrete Masonry Academy\n*1 HSW*\nFeatured Speaker: Steve Sunderman
URL:https://www.aiawinstonsalem.org/event/understanding-structural-masonry/
LOCATION:NC
CATEGORIES:Webinar
ATTACH;FMTTYPE=image/png:https://www.aiawinstonsalem.org/wp-content/uploads/2020/05/Gray_SCMA-Logo.png
END:VEVENT
BEGIN:VEVENT
DTSTART;TZID=America/New_York:20200519T120000
DTEND;TZID=America/New_York:20200519T130000
DTSTAMP:20260424T154022
CREATED:20200513T143240Z
LAST-MODIFIED:20200513T174103Z
UID:957-1589889600-1589893200@www.aiawinstonsalem.org
SUMMARY:AIA WS | May *VIRTUAL* Section Lunch
DESCRIPTION:Please join us for our first *ONLINE* Section Lunch! The registration link can be found below. \n“State of the State”\nOnline Webinar \npresented by David Crawford\, Executive Vice President of the AIA North Carolina\, Rod Lindsey\, 2020 President of AIA North Carolina\, and Catherine Evans\, Executive Director of the NC Board of Architecture.\nDuring this discussion\, we will hear about relevant updates regarding the field of architecture in our state\, including  legislative and regulatory updates from David Crawford\, as well as potential economic impacts of COVID-19. Catherine will cover updates relevant to licensure and the North Carolina Board of Architecture. \n  \nRegister for the Zoom meeting here: https://us02web.zoom.us/meeting/register/tZMpc-iupjkiH9QGCecxnoTzhJdxd7iHxY8v
URL:https://www.aiawinstonsalem.org/event/aia-ws-may-virtual-section-lunch/
LOCATION:NC
CATEGORIES:AIA Winston-Salem,Speaker Lunch,Webinar
ATTACH;FMTTYPE=image/png:https://www.aiawinstonsalem.org/wp-content/uploads/2020/05/section-lunch-graphic.png
ORGANIZER;CN="AIA Winston-Salem":MAILTO:president@aiawinstonsalem.org
END:VEVENT
BEGIN:VEVENT
DTSTART;TZID=America/New_York:20200521T130000
DTEND;TZID=America/New_York:20200521T140000
DTSTAMP:20260424T154022
CREATED:20200504T223628Z
LAST-MODIFIED:20200504T223628Z
UID:951-1590066000-1590069600@www.aiawinstonsalem.org
SUMMARY:The AIA's New Sustainable Consultant Scope of Services and Revised Guide
DESCRIPTION:*1 HSW*\nHosted by: AIA Contract Documents\nPresented by: Colleen Telling & Tara Myers\n\nOwners are realizing the value of incorporating sustainable design and materials into their facilities has on the environment\, building efficiency\, and occupant health. Many owners are now shifting traditional sustainability coordination efforts from architects of record to consultants who specialize in sustainability and may or may not be architects.\n\n\n\nAttendees will:\n\n\nBecome familiar with the AIA’s new C204™️-2020 Scope of Services for Consultants providing Sustainable Project Services.\nExamine how C204 relates to the Sustainable Projects Exhibit E204™️-2017 and C103™️–2015\, Owner/Consultant without a Predefined Scope of Consultant’s Services.\nLearn about the responsibilities of the sustainable projects consultant\, supplemental services\, and the flow down of sustainability requirements to other parties.\nExplore the updates made to the Sustainable Projects Guide\, D503™️-2020\, including a discussion of environmental product ratings and certification systems.
URL:https://www.aiawinstonsalem.org/event/the-aias-new-sustainable-consultant-scope-of-services-and-revised-guide/
LOCATION:NC
CATEGORIES:AIA National,Webinar
ATTACH;FMTTYPE=image/jpeg:https://www.aiawinstonsalem.org/wp-content/uploads/2019/01/Members_AIAContractDocs.jpg
END:VEVENT
BEGIN:VEVENT
DTSTART;TZID=America/New_York:20200528T120000
DTEND;TZID=America/New_York:20200528T130000
DTSTAMP:20260424T154022
CREATED:20200527T123544Z
LAST-MODIFIED:20200527T124313Z
UID:966-1590667200-1590670800@www.aiawinstonsalem.org
SUMMARY:Acoustics in Architecture - A Master Class
DESCRIPTION:*1 HSW*\nRegistration is REQUIRED by May 28 at 10 AM: event website found in “Details” below.\nPresented by Steven J. Thorburn with Thorburn Associates\nThis program explores the ways that acoustics can impact our built environment. After a brief review on acoustics terms\, the session looks at various concerns clients have raised including: \n\nRestaurant acoustics\nIIC and STC in mixed use and multi-family housing\nConference room acoustics and glazing options\nMechanical noise control\nHow to treat spaces acoustically with our newer\, flexible\, collaborative\, more open space plans\nAcoustics in healthcare\n\nLearning Objectives: \n\nParticipants will describe impact of background noise on speech and privacy\nParticipants will discuss acoustical importance of absorptive materials\nParticipants will describe impact of wall and ceiling construction on acoustics\nParticipants will list requirements for environmental noise\, background noise\, speech privacy and sound isolation
URL:https://www.aiawinstonsalem.org/event/acoustics-in-architecture-a-master-class/
LOCATION:NC
CATEGORIES:Webinar
ATTACH;FMTTYPE=image/jpeg:https://www.aiawinstonsalem.org/wp-content/uploads/2020/05/Thorburn-200.jpg
END:VEVENT
BEGIN:VEVENT
DTSTART;VALUE=DATE:20200530
DTEND;VALUE=DATE:20200601
DTSTAMP:20260424T154022
CREATED:20200421T222154Z
LAST-MODIFIED:20200421T222154Z
UID:899-1590796800-1590969599@www.aiawinstonsalem.org
SUMMARY:Structural Technology for Practicing & Intern Architects
DESCRIPTION:*20 LU & HSW Credits*\nPresented by: Dr. Medhi Setareh \nSponsored by: Virginia Tech’s College of Architecture and Urban Studies \nVirtual Two Day Event: Saturday\, May 30\, 8:00 AM – 7:00 PM; Sunday\, May 31\, 8:00 AM – 5:00 PM \nThis course provides an overview of the fundamentals of the structural technology topics that every architect should be aware of. It also helps intern architects prepare for the structural portions of the Architect Registration Examination (ARE5.0) offered by the National Council of Architectural Registration Boards (NCARB). This course reviews the necessary knowledge on structural theory and behavior of different building components in steel\, concrete\, and wood\, and structural framing layout. The class meets on Saturday May 30 and Sunday May 31\, 2020. \nWhat will be covered:  \n\nStructural Theory\nSteel Structures\nConcrete Structures\nWood Structures\nLong-Span Systems\nStructural Framing Layout\n\nWhat’s Included: \n\na Copy of STRUCTURAL SYSTEMS Second Edition book\n20 LU and HSW credits approved by the AIA\nA complete set of information on the theoretical and practical aspects of building structures\nTerms used by structural engineers to improve communication between architect and structural engineer.\n\nHow to Register: \nThe fee for the seminars includes course materials\, 20 hours of instruction\, a copy of the STRUCTURAL SYSTEMS – Second Edition (2017) [$89.00 on Amazon.com]. All participants will receive a certificate of completion upon request. This seminar is eligible for a total of 20 Learning Unit (LU) hours and qualifies for 20 hours of Health\, Safety\, and Welfare (HSW). To register\, complete the attached form and make payment by Friday\, May 22\, 2020. To benefit the early registration discount\, registration must be completed by the end of May 15\, 2020. No Refunds after registration. However\, substitutions are accepted at any time. In case of cancellation of the program\, registrants will be fully-refunded
URL:https://www.aiawinstonsalem.org/event/structural-technology-for-practicing-intern-architects/
LOCATION:NC
CATEGORIES:Webinar
ATTACH;FMTTYPE=image/gif:https://www.aiawinstonsalem.org/wp-content/uploads/2020/04/virginiatech.gif
END:VEVENT
END:VCALENDAR