BEGIN:VCALENDAR
VERSION:2.0
PRODID:-//AIA Winston-Salem - ECPv6.3.1//NONSGML v1.0//EN
CALSCALE:GREGORIAN
METHOD:PUBLISH
X-ORIGINAL-URL:https://www.aiawinstonsalem.org
X-WR-CALDESC:Events for AIA Winston-Salem
REFRESH-INTERVAL;VALUE=DURATION:PT1H
X-Robots-Tag:noindex
X-PUBLISHED-TTL:PT1H
BEGIN:VTIMEZONE
TZID:America/New_York
BEGIN:DAYLIGHT
TZOFFSETFROM:-0500
TZOFFSETTO:-0400
TZNAME:EDT
DTSTART:20200308T070000
END:DAYLIGHT
BEGIN:STANDARD
TZOFFSETFROM:-0400
TZOFFSETTO:-0500
TZNAME:EST
DTSTART:20201101T060000
END:STANDARD
END:VTIMEZONE
BEGIN:VEVENT
DTSTART;TZID=America/New_York:20200825T120000
DTEND;TZID=America/New_York:20200825T130000
DTSTAMP:20260424T112919
CREATED:20200818T134359Z
LAST-MODIFIED:20200818T134359Z
UID:1033-1598356800-1598360400@www.aiawinstonsalem.org
SUMMARY:Opening Doors to Design Opportunities with the Model Building Codes
DESCRIPTION:*1 HSW/LU *\npresented by Ken Cox with Maxson Associates\nDescription: \nThis course has been designed to acquaint the viewer with the many aspects of Fire and Life Safety Code Requirements and how those Code Requirements affect egress and building design. \nLearning Objectives:  \n\nWill allow the participants to be able to differentiate between fire walls\, fire barriers\, and fire partitions\nLearners will understand the regulatory standards governing the use and application of opening protectives.\nBy examining case studies\, attendees will learn the fundamental code requirements that drive the placement of fire walls and fire barriers\, their openings and opening protectives.\n\nBy using slides\, discussion\, and case studies\, participants will learn the correlation between Life Safety\, product application\, and open design. \nRegister here:  https://us02web.zoom.us/meeting/register/tZAkdeigrTsjEtHtB_a_AORVlkVyjwgdPG3f
URL:https://www.aiawinstonsalem.org/event/opening-doors-to-design-opportunities-with-the-model-building-codes/
LOCATION:NC
CATEGORIES:AIA Winston-Salem,Lunch & Learn,Webinar
ATTACH;FMTTYPE=image/jpeg:https://www.aiawinstonsalem.org/wp-content/uploads/2020/01/maxson-and-associates-logo.jpg
ORGANIZER;CN="AIA Winston-Salem":MAILTO:president@aiawinstonsalem.org
END:VEVENT
END:VCALENDAR