BEGIN:VCALENDAR
VERSION:2.0
PRODID:-//AIA Winston-Salem - ECPv6.3.1//NONSGML v1.0//EN
CALSCALE:GREGORIAN
METHOD:PUBLISH
X-ORIGINAL-URL:https://www.aiawinstonsalem.org
X-WR-CALDESC:Events for AIA Winston-Salem
REFRESH-INTERVAL;VALUE=DURATION:PT1H
X-Robots-Tag:noindex
X-PUBLISHED-TTL:PT1H
BEGIN:VTIMEZONE
TZID:America/New_York
BEGIN:DAYLIGHT
TZOFFSETFROM:-0500
TZOFFSETTO:-0400
TZNAME:EDT
DTSTART:20200308T070000
END:DAYLIGHT
BEGIN:STANDARD
TZOFFSETFROM:-0400
TZOFFSETTO:-0500
TZNAME:EST
DTSTART:20201101T060000
END:STANDARD
END:VTIMEZONE
BEGIN:VEVENT
DTSTART;TZID=America/New_York:20201202T123000
DTEND;TZID=America/New_York:20201202T133000
DTSTAMP:20260424T053024
CREATED:20201204T153715Z
LAST-MODIFIED:20201204T153715Z
UID:1071-1606912200-1606915800@www.aiawinstonsalem.org
SUMMARY:Protected Membrane Roof Systems
DESCRIPTION:Arriscraft Webinar Series \n*1 LU/HSW* \nProvides a comparison of the functional and physical features of PMR systems to conventional low-slope roofing applications. Includes a discussion about the ASCE 7 standard and its impact on wind uplift design and how weather events such as hail impact roof design. \nRegister: https://bit.ly/2G8qluz \n 
URL:https://www.aiawinstonsalem.org/event/protected-membrane-roof-systems/
LOCATION:NC
CATEGORIES:Webinar
ATTACH;FMTTYPE=image/png:https://www.aiawinstonsalem.org/wp-content/uploads/2020/12/arriscraft-logo.png
END:VEVENT
BEGIN:VEVENT
DTSTART;TZID=America/New_York:20201216T123000
DTEND;TZID=America/New_York:20201216T123000
DTSTAMP:20260424T053024
CREATED:20201204T155957Z
LAST-MODIFIED:20201204T155957Z
UID:1074-1608121800-1608121800@www.aiawinstonsalem.org
SUMMARY:Just Hanging Out on the Wall - Masonry Rainscreens
DESCRIPTION:Arriscraft Webinar Series\n*1 LU / HSW*\nTo discuss Masonry Veneer Rainscreens and the wide variety of potential uses for them including new and renovation applications. This course covers how to meet the requirements of the Energy Code when utilizing these assemblies. \nRegister: https://bit.ly/2QuMvJs
URL:https://www.aiawinstonsalem.org/event/just-hanging-out-on-the-wall-masonry-rainscreens/
LOCATION:NC
CATEGORIES:Webinar
ATTACH;FMTTYPE=image/png:https://www.aiawinstonsalem.org/wp-content/uploads/2020/12/arriscraft-logo.png
END:VEVENT
BEGIN:VEVENT
DTSTART;TZID=America/New_York:20201217T120000
DTEND;TZID=America/New_York:20201217T130000
DTSTAMP:20260424T053024
CREATED:20201210T184820Z
LAST-MODIFIED:20201210T184820Z
UID:1096-1608206400-1608210000@www.aiawinstonsalem.org
SUMMARY:AIAWS | December Lunch and Learn
DESCRIPTION:*1 HSW*\nDoors\, Frames\, and Hardware\nThis course provides an overview of swinging doors\, frames\, and architectural door hardware. It will cover standard industry nomenclature for hollow metal frames and doors and wood doors. Includes information on mechanical and electronic hardware specification and applications. \nPresented By: \nJoe Grochowski\, CSI\, CDT\nArchitectural Consultant – Southeast\nASSA ABLOY Door Security Solutions \nASSA ABLOY Opening Solutions\nMobile: +1.984.484.0145\njoseph.grochowski@assaabloy.com \n  \nREGISTER HERE: https://us02web.zoom.us/meeting/register/tZIpcO2qqzkiE9etQRM8DcfKcSJ3FzWvkZQE
URL:https://www.aiawinstonsalem.org/event/aiaws-december-lunch-and-learn/
LOCATION:NC
CATEGORIES:AIA Winston-Salem,Lunch & Learn,Webinar
ATTACH;FMTTYPE=image/png:https://www.aiawinstonsalem.org/wp-content/uploads/2020/12/assa-abloy-logo-vector.png
ORGANIZER;CN="AIA Winston-Salem":MAILTO:president@aiawinstonsalem.org
END:VEVENT
END:VCALENDAR