BEGIN:VCALENDAR
VERSION:2.0
PRODID:-//AIA Winston-Salem - ECPv6.3.1//NONSGML v1.0//EN
CALSCALE:GREGORIAN
METHOD:PUBLISH
X-WR-CALNAME:AIA Winston-Salem
X-ORIGINAL-URL:https://www.aiawinstonsalem.org
X-WR-CALDESC:Events for AIA Winston-Salem
REFRESH-INTERVAL;VALUE=DURATION:PT1H
X-Robots-Tag:noindex
X-PUBLISHED-TTL:PT1H
BEGIN:VTIMEZONE
TZID:America/New_York
BEGIN:DAYLIGHT
TZOFFSETFROM:-0500
TZOFFSETTO:-0400
TZNAME:EDT
DTSTART:20220313T070000
END:DAYLIGHT
BEGIN:STANDARD
TZOFFSETFROM:-0400
TZOFFSETTO:-0500
TZNAME:EST
DTSTART:20221106T060000
END:STANDARD
END:VTIMEZONE
BEGIN:VEVENT
DTSTART;TZID=America/New_York:20220531T120000
DTEND;TZID=America/New_York:20220531T130000
DTSTAMP:20260423T050257
CREATED:20220503T132536Z
LAST-MODIFIED:20220504T125732Z
UID:1691-1653998400-1654002000@www.aiawinstonsalem.org
SUMMARY:AIAWS | May Lunch & Learn
DESCRIPTION:*1 HSW*\n“Capturing Light” Presented by 3Form\n 
URL:https://www.aiawinstonsalem.org/event/aiaws-may-lunch-learn/
LOCATION:The Barn at Reynolda Village\, 106 Reynolda Village\, Winston-Salem\, NC\, 27106\, United States
ATTACH;FMTTYPE=image/png:https://www.aiawinstonsalem.org/wp-content/uploads/2022/05/may-3form.png
ORGANIZER;CN="AIA Winston-Salem":MAILTO:president@aiawinstonsalem.org
END:VEVENT
END:VCALENDAR