BEGIN:VCALENDAR
VERSION:2.0
PRODID:-//AIA Winston-Salem - ECPv6.3.1//NONSGML v1.0//EN
CALSCALE:GREGORIAN
METHOD:PUBLISH
X-WR-CALNAME:AIA Winston-Salem
X-ORIGINAL-URL:https://www.aiawinstonsalem.org
X-WR-CALDESC:Events for AIA Winston-Salem
REFRESH-INTERVAL;VALUE=DURATION:PT1H
X-Robots-Tag:noindex
X-PUBLISHED-TTL:PT1H
BEGIN:VTIMEZONE
TZID:America/New_York
BEGIN:DAYLIGHT
TZOFFSETFROM:-0500
TZOFFSETTO:-0400
TZNAME:EDT
DTSTART:20200308T070000
END:DAYLIGHT
BEGIN:STANDARD
TZOFFSETFROM:-0400
TZOFFSETTO:-0500
TZNAME:EST
DTSTART:20201101T060000
END:STANDARD
END:VTIMEZONE
BEGIN:VEVENT
DTSTART;TZID=America/New_York:20201202T123000
DTEND;TZID=America/New_York:20201202T133000
DTSTAMP:20260424T065555
CREATED:20201204T153715Z
LAST-MODIFIED:20201204T153715Z
UID:1071-1606912200-1606915800@www.aiawinstonsalem.org
SUMMARY:Protected Membrane Roof Systems
DESCRIPTION:Arriscraft Webinar Series \n*1 LU/HSW* \nProvides a comparison of the functional and physical features of PMR systems to conventional low-slope roofing applications. Includes a discussion about the ASCE 7 standard and its impact on wind uplift design and how weather events such as hail impact roof design. \nRegister: https://bit.ly/2G8qluz \n 
URL:https://www.aiawinstonsalem.org/event/protected-membrane-roof-systems/
LOCATION:NC
CATEGORIES:Webinar
ATTACH;FMTTYPE=image/png:https://www.aiawinstonsalem.org/wp-content/uploads/2020/12/arriscraft-logo.png
END:VEVENT
END:VCALENDAR