BEGIN:VCALENDAR
VERSION:2.0
PRODID:-//AIA Winston-Salem - ECPv6.3.1//NONSGML v1.0//EN
CALSCALE:GREGORIAN
METHOD:PUBLISH
X-ORIGINAL-URL:https://www.aiawinstonsalem.org
X-WR-CALDESC:Events for AIA Winston-Salem
REFRESH-INTERVAL;VALUE=DURATION:PT1H
X-Robots-Tag:noindex
X-PUBLISHED-TTL:PT1H
BEGIN:VTIMEZONE
TZID:America/New_York
BEGIN:DAYLIGHT
TZOFFSETFROM:-0500
TZOFFSETTO:-0400
TZNAME:EDT
DTSTART:20210314T070000
END:DAYLIGHT
BEGIN:STANDARD
TZOFFSETFROM:-0400
TZOFFSETTO:-0500
TZNAME:EST
DTSTART:20211107T060000
END:STANDARD
END:VTIMEZONE
BEGIN:VEVENT
DTSTART;TZID=America/New_York:20210107T140000
DTEND;TZID=America/New_York:20210107T150000
DTSTAMP:20260424T053240
CREATED:20210106T180258Z
LAST-MODIFIED:20210106T180258Z
UID:1143-1610028000-1610031600@www.aiawinstonsalem.org
SUMMARY:Acoustics Matters: Shaping Sound in Healthcare Environments
DESCRIPTION:USG Virtual Panel Event\n*1 HSW*\nThere is a growing body of research that links sound to human health. The role of acoustic design in healthcare facilities is crucial in creating health\, comfort and privacy. Join moderators Patricia DeMuyt and Andrew Schmidt of the USG Architectural & Building Science Teams as they moderate an expert panel of designers\, architects\, planners and consultants in a discussion on the future of healthcare\, acoustics\, and architecture. \nWhat acoustic challenges and complexities do we need to consider in spaces of healing? What can be done as builders\, designers\, facility owners and occupants to shape better and healthier environments? \nRegister <here>
URL:https://www.aiawinstonsalem.org/event/acoustics-matters-shaping-sound-in-healthcare-environments/
LOCATION:NC
CATEGORIES:Webinar
ATTACH;FMTTYPE=image/png:https://www.aiawinstonsalem.org/wp-content/uploads/2021/01/usg-logo.png
END:VEVENT
END:VCALENDAR