BEGIN:VCALENDAR
VERSION:2.0
PRODID:-//AIA Winston-Salem - ECPv6.3.1//NONSGML v1.0//EN
CALSCALE:GREGORIAN
METHOD:PUBLISH
X-WR-CALNAME:AIA Winston-Salem
X-ORIGINAL-URL:https://www.aiawinstonsalem.org
X-WR-CALDESC:Events for AIA Winston-Salem
REFRESH-INTERVAL;VALUE=DURATION:PT1H
X-Robots-Tag:noindex
X-PUBLISHED-TTL:PT1H
BEGIN:VTIMEZONE
TZID:America/New_York
BEGIN:DAYLIGHT
TZOFFSETFROM:-0500
TZOFFSETTO:-0400
TZNAME:EDT
DTSTART:20210314T070000
END:DAYLIGHT
BEGIN:STANDARD
TZOFFSETFROM:-0400
TZOFFSETTO:-0500
TZNAME:EST
DTSTART:20211107T060000
END:STANDARD
END:VTIMEZONE
BEGIN:VEVENT
DTSTART;TZID=America/New_York:20210128T120000
DTEND;TZID=America/New_York:20210128T133000
DTSTAMP:20260424T053101
CREATED:20210104T220051Z
LAST-MODIFIED:20210104T220051Z
UID:1123-1611835200-1611840600@www.aiawinstonsalem.org
SUMMARY:Aspire Online Learning: Brick Fundamentals
DESCRIPTION:Brick Fundamentals\n*1.5 HSW*\nPresented by Meridian Brick and Masonry Supply \nThe intent of this course is to analyze the ASTM performance criteria for clay brick and identify how it offers durability\, safety\, and energy efficiency benefits. \nRegister <here>
URL:https://www.aiawinstonsalem.org/event/aspire-online-learning-brick-fundamentals/
LOCATION:NC
CATEGORIES:Aspire Online Learning,Webinar
ATTACH;FMTTYPE=image/png:https://www.aiawinstonsalem.org/wp-content/uploads/2021/01/meridian-brick.png
END:VEVENT
END:VCALENDAR