BEGIN:VCALENDAR
VERSION:2.0
PRODID:-//AIA Winston-Salem - ECPv6.3.1//NONSGML v1.0//EN
CALSCALE:GREGORIAN
METHOD:PUBLISH
X-ORIGINAL-URL:https://www.aiawinstonsalem.org
X-WR-CALDESC:Events for AIA Winston-Salem
REFRESH-INTERVAL;VALUE=DURATION:PT1H
X-Robots-Tag:noindex
X-PUBLISHED-TTL:PT1H
BEGIN:VTIMEZONE
TZID:America/New_York
BEGIN:DAYLIGHT
TZOFFSETFROM:-0500
TZOFFSETTO:-0400
TZNAME:EDT
DTSTART:20210314T070000
END:DAYLIGHT
BEGIN:STANDARD
TZOFFSETFROM:-0400
TZOFFSETTO:-0500
TZNAME:EST
DTSTART:20211107T060000
END:STANDARD
END:VTIMEZONE
BEGIN:VEVENT
DTSTART;TZID=America/New_York:20210304T120000
DTEND;TZID=America/New_York:20210304T133000
DTSTAMP:20260424T030044
CREATED:20210302T143815Z
LAST-MODIFIED:20210302T143815Z
UID:1181-1614859200-1614864600@www.aiawinstonsalem.org
SUMMARY:AOL: Sustainable Design Through Daylighting
DESCRIPTION:Hosted by Kalwall\n1.5 HSW Hours\nTopics discussed include daylighting strategies available through the integration of structural sandwich panels\, energy conservation\, enhancements\, options\, form and aesthetics. The many benefits to health\, productivity\, safety and sustainable design will be discussed\, as well as specialty applications including explosion venting\, blast resistance\, OSHA fall through protection and hurricane resistance
URL:https://www.aiawinstonsalem.org/event/aol-sustainable-design-through-daylighting/
LOCATION:NC
CATEGORIES:Aspire Online Learning,Webinar
ATTACH;FMTTYPE=image/png:https://www.aiawinstonsalem.org/wp-content/uploads/2021/02/AOL.png
END:VEVENT
END:VCALENDAR