BEGIN:VCALENDAR
VERSION:2.0
PRODID:-//AIA Winston-Salem - ECPv6.3.1//NONSGML v1.0//EN
CALSCALE:GREGORIAN
METHOD:PUBLISH
X-WR-CALNAME:AIA Winston-Salem
X-ORIGINAL-URL:https://www.aiawinstonsalem.org
X-WR-CALDESC:Events for AIA Winston-Salem
REFRESH-INTERVAL;VALUE=DURATION:PT1H
X-Robots-Tag:noindex
X-PUBLISHED-TTL:PT1H
BEGIN:VTIMEZONE
TZID:America/New_York
BEGIN:DAYLIGHT
TZOFFSETFROM:-0500
TZOFFSETTO:-0400
TZNAME:EDT
DTSTART:20210314T070000
END:DAYLIGHT
BEGIN:STANDARD
TZOFFSETFROM:-0400
TZOFFSETTO:-0500
TZNAME:EST
DTSTART:20211107T060000
END:STANDARD
END:VTIMEZONE
BEGIN:VEVENT
DTSTART;TZID=America/New_York:20210309T120000
DTEND;TZID=America/New_York:20210309T133000
DTSTAMP:20260424T025921
CREATED:20210302T142018Z
LAST-MODIFIED:20210302T142018Z
UID:1177-1615291200-1615296600@www.aiawinstonsalem.org
SUMMARY:March O.W.L.S.
DESCRIPTION:The New ANSI/AWI 0641 Casework Standard\nWith Unique Concepts Custom Furniture Design Build\n1.5 HSW\nTo educate architects\, specifiers & designers on the new ANSI/AWI 0641 Architectural Wood Casework. There are now laboratory-tested manufacturing methods and materials to prove the structural performance of the casework being specified. This new standard also allows for proprietary manufacturing methods to be performance tested and specified while giving scientific validation & accountability to the woodworking industry as a whole.
URL:https://www.aiawinstonsalem.org/event/march-o-w-l-s/
LOCATION:NC
CATEGORIES:AIA North Carolina,O.W.L.S.
ATTACH;FMTTYPE=image/png:https://www.aiawinstonsalem.org/wp-content/uploads/2019/06/Owlslogo2016.png
ORGANIZER;CN="AIA North Carolina":MAILTO:info@aianc.org
END:VEVENT
END:VCALENDAR