BEGIN:VCALENDAR
VERSION:2.0
PRODID:-//AIA Winston-Salem - ECPv6.3.1//NONSGML v1.0//EN
CALSCALE:GREGORIAN
METHOD:PUBLISH
X-WR-CALNAME:AIA Winston-Salem
X-ORIGINAL-URL:https://www.aiawinstonsalem.org
X-WR-CALDESC:Events for AIA Winston-Salem
REFRESH-INTERVAL;VALUE=DURATION:PT1H
X-Robots-Tag:noindex
X-PUBLISHED-TTL:PT1H
BEGIN:VTIMEZONE
TZID:America/New_York
BEGIN:DAYLIGHT
TZOFFSETFROM:-0500
TZOFFSETTO:-0400
TZNAME:EDT
DTSTART:20210314T070000
END:DAYLIGHT
BEGIN:STANDARD
TZOFFSETFROM:-0400
TZOFFSETTO:-0500
TZNAME:EST
DTSTART:20211107T060000
END:STANDARD
END:VTIMEZONE
BEGIN:VEVENT
DTSTART;TZID=America/New_York:20210310T123000
DTEND;TZID=America/New_York:20210310T133000
DTSTAMP:20260424T025922
CREATED:20210308T203706Z
LAST-MODIFIED:20210308T203706Z
UID:1200-1615379400-1615383000@www.aiawinstonsalem.org
SUMMARY:The Changing Landscape of Thin Adhered Masonry Veneers
DESCRIPTION:*1 HSW*\nWe will discuss Thin Adhered Masonry Veneer and the wide variety of potential uses for them including new and renovation applications. We will cover how to meet the requirements of the Energy Code when utilizing these assemblies. \nSpecifically\, we will focus on: \n• Adhered masonry veneers both exterior and interior\n• Super flexible polymer fortified mortars and cement board and why the metal lath and scratch coat adhered veneer method is inferior and a thing of the past\n• How we can meet Miami/Dade County as well as NFPA-285 wall construction requirements with these new systems and approaches\n• Understanding the mechanisms of adhered veneer failures of the past and how new systems address and eliminate these concerns\n• The differences between barrier walls\, drainage plane walls\, and insulated drainage plane walls\n• How to achieve an Energy Code (ASHRAE 90.1/IECC/SB-10) compliant wall design even when using an adhered veneer\n• Continuous insulation and the use of Insulated Concrete Board panels for adhered veneers
URL:https://www.aiawinstonsalem.org/event/the-changing-landscape-of-thin-adhered-masonry-veneers/
LOCATION:NC
CATEGORIES:Webinar
ATTACH;FMTTYPE=image/png:https://www.aiawinstonsalem.org/wp-content/uploads/2020/12/arriscraft-logo.png
END:VEVENT
END:VCALENDAR