BEGIN:VCALENDAR
VERSION:2.0
PRODID:-//AIA Winston-Salem - ECPv6.3.1//NONSGML v1.0//EN
CALSCALE:GREGORIAN
METHOD:PUBLISH
X-WR-CALNAME:AIA Winston-Salem
X-ORIGINAL-URL:https://www.aiawinstonsalem.org
X-WR-CALDESC:Events for AIA Winston-Salem
REFRESH-INTERVAL;VALUE=DURATION:PT1H
X-Robots-Tag:noindex
X-PUBLISHED-TTL:PT1H
BEGIN:VTIMEZONE
TZID:America/New_York
BEGIN:DAYLIGHT
TZOFFSETFROM:-0500
TZOFFSETTO:-0400
TZNAME:EDT
DTSTART:20210314T070000
END:DAYLIGHT
BEGIN:STANDARD
TZOFFSETFROM:-0400
TZOFFSETTO:-0500
TZNAME:EST
DTSTART:20211107T060000
END:STANDARD
END:VTIMEZONE
BEGIN:VEVENT
DTSTART;TZID=America/New_York:20210921T120000
DTEND;TZID=America/New_York:20210921T133000
DTSTAMP:20260423T183038
CREATED:20210908T161509Z
LAST-MODIFIED:20210908T161509Z
UID:1370-1632225600-1632231000@www.aiawinstonsalem.org
SUMMARY:AIA NC | O.W.L.S. Webinar with Apparatus Design
DESCRIPTION:*1.5 HSW Hours*\nHealth\, Layers\, Optics\, and Lighting Interactive Game with Apparatus Design \nYour game show host and lightologist Therese Lahaie together with a lighting designer present the technology and implementation on projects that show you how to improve lighting in residential\, commercial\, and public projects. We will guide you through the quality of light metrics to affordably improve health & wellbeing at home\, lighting layers enhancing dimensionality of your projects\, and optics technologies\, all developed by respected lighting manufacturers.
URL:https://www.aiawinstonsalem.org/event/aia-nc-o-w-l-s-webinar-with-apparatus-design/
LOCATION:NC
CATEGORIES:AIA North Carolina,O.W.L.S.
ATTACH;FMTTYPE=image/png:https://www.aiawinstonsalem.org/wp-content/uploads/2019/06/Owlslogo2016.png
ORGANIZER;CN="AIA North Carolina":MAILTO:info@aianc.org
END:VEVENT
END:VCALENDAR